BEGIN:VCALENDAR
VERSION:2.0
PRODID:-//ChamberMaster//Event Calendar 2.0//EN
METHOD:PUBLISH
X-PUBLISHED-TTL:P3D
REFRESH-INTERVAL:P3D
CALSCALE:GREGORIAN
BEGIN:VEVENT
DTSTART:20150520T190000Z
DTEND:20150529T190000Z
X-MICROSOFT-CDO-ALLDAYEVENT:FALSE
SUMMARY:CASTING CALL: Host for New TV Series
DESCRIPTION:A major network is searching nationwide for a host for a new family makeover show. We are looking for a sassy\, assertive\, opinionated and business savvy expert who can use their expertise to help whip families into shape. Do you understand the science behind building a successful business? Is there an art or skill to parenting? Does your no-nonsense approach make you successful? If you are a successful business person\, parenting coach\, consultant\, or another type of expert who deserves their own show\, e-mail your contact info to: parentexpertcasting@gmail.com.
X-ALT-DESC;FMTTYPE=text/html:A major network is searching nationwide for a host for a new family makeover show. We are looking for a sassy\, assertive\, opinionated and business savvy expert who can use their expertise to help whip families into shape. Do you understand the science behind building a successful business? Is there an art or skill to parenting? Does your no-nonsense approach make you successful? If you are a successful business person\, parenting coach\, consultant\, or another type of expert who deserves their own show\, e-mail your contact info to: parentexpertcasting@gmail.com.
LOCATION:Nationwide
UID:e.1956.2462
SEQUENCE:3
DTSTAMP:20260424T033529Z
URL:https://business.lbchamber.com/events/details/casting-call-host-for-new-tv-series-05-20-2015-2462
END:VEVENT

END:VCALENDAR
