BEGIN:VCALENDAR
VERSION:2.0
PRODID:-//ChamberMaster//Event Calendar 2.0//EN
METHOD:PUBLISH
X-PUBLISHED-TTL:P3D
REFRESH-INTERVAL:P3D
CALSCALE:GREGORIAN
BEGIN:VEVENT
DTSTART:20250926T180000Z
DTEND:20250926T190000Z
X-MICROSOFT-CDO-ALLDAYEVENT:FALSE
SUMMARY:Cardio Dance for All Abilities
DESCRIPTION:Adults with special needs and abilities\, join us for a FREE Cardio Dance class every Friday 11am-12pm.
X-ALT-DESC;FMTTYPE=text/html:Adults with special needs and abilities\, join us for a FREE Cardio Dance class every Friday 11am-12pm.
LOCATION:5599 Atlantic Ave Long Beach\, CA 90805
UID:e.1956.8398
SEQUENCE:3
DTSTAMP:20260425T215108Z
URL:https://business.lbchamber.com/events/details/cardio-dance-for-all-abilities-8398
END:VEVENT

END:VCALENDAR
