BEGIN:VCALENDAR
VERSION:2.0
PRODID:-//ChamberMaster//Event Calendar 2.0//EN
METHOD:PUBLISH
X-PUBLISHED-TTL:P3D
REFRESH-INTERVAL:P3D
CALSCALE:GREGORIAN
BEGIN:VEVENT
DTSTART:20160520T190000Z
DTEND:20160520T210000Z
X-MICROSOFT-CDO-ALLDAYEVENT:FALSE
SUMMARY:California Visionary Luncheon Series 2016
DESCRIPTION:Featuring Assembly Speaker\, Anthony Rendon\n\n\n\nSpeaker Anthony Rendon represents the 63rd Assembly District in the California State Assembly. The 63rd Assembly District includes nine cities in southeast Los Angeles County.\n\n \n\nOn March 7\, 2016\, Rendon was sworn-in as the 70th Speaker of the Assembly. \n\n \n\nDuring his first term in office\, Rendon authored Proposition 1\, the $7.5 billion state water bond\, which voters passed by a 67% to 33% margin in the November 2014 election.\n\n \n\nNow in his second term\, Rendon authored Assembly Bill 530 in 2015\, a law that spurs much-needed revitalization of the lower portion of the Los Angeles River\, and Assembly Bill 496\, which connects schools with resources to improve clean drinking water infrastructure. As chair of the Utilities and Commerce Committee\, he led the ongoing effort to ensure accountability for the California Public Utilities Commission.\n\n\n\nPrior to serving in the Assembly\, Rendon was an educator\, non-profit executive director\, and environmental activist.  He led Plaza de la Raza Child Development Services\, Inc. as Executive Director. Before working at Plaza\,                      Rendon served as the Interim Executive Director of the California League of Conservation Voters from 2008 to 2009. \n\n\n\n Rendon holds a Ph.D. from the University of California\, Riverside.  He resides in Paramount with his wife\, Annie.
X-ALT-DESC;FMTTYPE=text/html:<br />\n<span style="font-family:tahoma\;"><span style="color:black\;"><em><span style="font-size:14px\;"><strong>Featuring Assembly Speaker\, Anthony Rendon</strong></span></em><br />\n<br />\nSpeaker Anthony Rendon represents the 63rd Assembly District in the California State Assembly. </span><span style="color:black\;">The 63rd Assembly District </span><span style="color:black\;">includes nine cities in southeast Los Angeles County.</span><br />\n&nbsp\;<br />\n<span style="color:black\;">On March 7\, 2016\, Rendon was sworn-in as the 70th Speaker of the Assembly. </span><br />\n&nbsp\;<br />\n<span style="color:black\;">During his first term in office\, Rendon authored Proposition 1\, the $7.5 billion state water bond\, which voters passed by a 67% to 33% margin in the November 2014 election.</span><br />\n&nbsp\;<br />\n<span style="color:black\;">Now in his second term\, </span><span style="color:black\;">Rendon authored Assembly Bill 530 in 2015\, a law that spurs much-needed revitalization of the lower portion of the Los Angeles River\, and Assembly Bill 496\, which connects schools with resources to improve clean drinking water infrastructure. As chair of the Utilities and Commerce Committee\, he led the ongoing effort to ensure accountability for the California Public Utilities Commission.</span><br />\n<br />\n<span style="color:black\;">Prior to serving in the Assembly\, Rendon was an educator\, non-profit executive director\, and environmental activist.&nbsp\; He led Plaza de la Raza Child Development Services\, Inc. as Executive Director. Before working at Plaza\, &#8203\;&#8203\;&#8203\;&#8203\;&#8203\;&#8203\;&#8203\;&#8203\;&#8203\;&#8203\;&#8203\;&#8203\;&#8203\;&#8203\;&#8203\;&#8203\;&#8203\;&#8203\;&#8203\;&#8203\;&#8203\;Rendon served as the Interim Executive Director of the California League of Conservation Voters from 2008 to 2009. </span><br />\n<br />\n<span style="color:black\;">&#8203\;Rendon holds a Ph.D. from the University of California\, Riverside. &nbsp\;He resides in Paramount with his wife\, Annie.</span></span>
LOCATION:700 Queensway Dr. Long Beach\, CA 90802
UID:e.1956.2773
SEQUENCE:3
DTSTAMP:20260420T114517Z
URL:https://business.lbchamber.com/events/details/california-visionary-luncheon-series-2016-05-20-2016-2773
END:VEVENT

END:VCALENDAR
