BEGIN:VCALENDAR
VERSION:2.0
PRODID:-//ChamberMaster//Event Calendar 2.0//EN
METHOD:PUBLISH
X-PUBLISHED-TTL:P3D
REFRESH-INTERVAL:P3D
CALSCALE:GREGORIAN
BEGIN:VEVENT
DTSTART:20170509T150000Z
DTEND:20170509T233000Z
X-MICROSOFT-CDO-ALLDAYEVENT:FALSE
SUMMARY:California-China Business Summit
DESCRIPTION:The Business Summit will be keynoted by Governor Jerry Brown and attended by 150 Chinese business executives who are ready to do business with California. A five industry focus includes: agriculture\, cleantech\, cross-border investments\, e-commerce and infrastructure. Below are some confirmed speakers who may be of interest to your community - California Governor Jerry Brown - Keynote - Robert Weisenmiller\, Chair\, California Energy Commission - Josh Eddy\, Executive Director\, California Department of Food & Agriculture - Carl Miller - Managing Director\, Global Retail Insights Network
X-ALT-DESC;FMTTYPE=text/html:The Business Summit will be keynoted by Governor Jerry Brown and attended by 150 Chinese business executives who are ready to do business with California. A five industry focus includes: agriculture\, cleantech\, cross-border investments\, e-commerce and infrastructure. Below are some confirmed speakers who may be of interest to your community - California Governor Jerry Brown - Keynote - Robert Weisenmiller\, Chair\, California Energy Commission - Josh Eddy\, Executive Director\, California Department of Food &amp\; Agriculture - Carl Miller - Managing Director\, Global Retail Insights Network
LOCATION:Millennium Biltmore Hotel\, 506 South Grand Ave. Los Angeles CA 90071
UID:e.1956.3088
SEQUENCE:3
DTSTAMP:20260419T175727Z
URL:https://business.lbchamber.com/events/details/california-china-business-summit-3088
END:VEVENT

END:VCALENDAR
