BEGIN:VCALENDAR
VERSION:2.0
PRODID:-//ChamberMaster//Event Calendar 2.0//EN
METHOD:PUBLISH
X-PUBLISHED-TTL:P3D
REFRESH-INTERVAL:P3D
CALSCALE:GREGORIAN
BEGIN:VEVENT
DTSTART:20210928T200000Z
DTEND:20210928T210000Z
X-MICROSOFT-CDO-ALLDAYEVENT:FALSE
SUMMARY:CA Relief Grant Updates
DESCRIPTION:Join the LA SBDC as we update you on NEW California Relief Grant Rounds.\n\nWe'll cover:\n\n- The Grant Program\n\n- Eligibility Requirements\n\n- What the funding can be used for\n\n- Who to Contact for Assistance
X-ALT-DESC;FMTTYPE=text/html:<span style="color: rgb(35\, 35\, 51)\; font-family: Lato\, Helvetica\, Arial\; font-size: 14px\;">Join the LA SBDC as we update you on NEW California Relief Grant Rounds.</span><br style="box-sizing: border-box\; color: rgb(35\, 35\, 51)\; font-family: Lato\, Helvetica\, Arial\; font-size: 14px\;" />\n<span style="color: rgb(35\, 35\, 51)\; font-family: Lato\, Helvetica\, Arial\; font-size: 14px\;">We&rsquo\;ll cover:</span><br style="box-sizing: border-box\; color: rgb(35\, 35\, 51)\; font-family: Lato\, Helvetica\, Arial\; font-size: 14px\;" />\n<span style="color: rgb(35\, 35\, 51)\; font-family: Lato\, Helvetica\, Arial\; font-size: 14px\;">- The Grant Program</span><br style="box-sizing: border-box\; color: rgb(35\, 35\, 51)\; font-family: Lato\, Helvetica\, Arial\; font-size: 14px\;" />\n<span style="color: rgb(35\, 35\, 51)\; font-family: Lato\, Helvetica\, Arial\; font-size: 14px\;">- Eligibility Requirements</span><br style="box-sizing: border-box\; color: rgb(35\, 35\, 51)\; font-family: Lato\, Helvetica\, Arial\; font-size: 14px\;" />\n<span style="color: rgb(35\, 35\, 51)\; font-family: Lato\, Helvetica\, Arial\; font-size: 14px\;">- What the funding can be used for</span><br style="box-sizing: border-box\; color: rgb(35\, 35\, 51)\; font-family: Lato\, Helvetica\, Arial\; font-size: 14px\;" />\n<span style="color: rgb(35\, 35\, 51)\; font-family: Lato\, Helvetica\, Arial\; font-size: 14px\;">- Who to Contact for Assistance</span>
LOCATION:Zoom
UID:e.1956.5215
SEQUENCE:3
DTSTAMP:20260420T044809Z
URL:https://business.lbchamber.com/events/details/ca-relief-grant-updates-5215
END:VEVENT

END:VCALENDAR
