BEGIN:VCALENDAR
VERSION:2.0
PRODID:-//ChamberMaster//Event Calendar 2.0//EN
METHOD:PUBLISH
X-PUBLISHED-TTL:P3D
REFRESH-INTERVAL:P3D
CALSCALE:GREGORIAN
BEGIN:VEVENT
DTSTART:20150414T180000Z
DTEND:20150414T183000Z
X-MICROSOFT-CDO-ALLDAYEVENT:FALSE
SUMMARY:Business Technology Webinar: How to Turn Business Data into Business Insight
DESCRIPTION:Learn 5 ways to turn your business data into business insight. We'll show you how to put your information to work\, transform big data into your next big idea\, get Business Intelligence on the fly\, connect your people\, processes and systems\, and put the power of the cloud to work for your business. SMBs\, Enterprises and Business Technology Decision Makers welcome. We have a brand new blog series all about this topic. Read Five Ways to Turn Business Data into Business Insight Part 1: Get Better\, Not Bigger Dashboards URL: http://www.bondconsultingservices.com/2015/03/11/five-ways-turn-business-data-business-insight-part-1-get-better-not-bigger-dashboards/ See all of our events here: bit.ly/BCSTeamWebinars
X-ALT-DESC;FMTTYPE=text/html:Learn 5 ways to turn your business data into business insight. We&#39\;ll show you how to put your information to work\, transform big data into your next big idea\, get Business Intelligence on the fly\, connect your people\, processes and systems\, and put the power of the cloud to work for your business. SMBs\, Enterprises and Business Technology Decision Makers welcome. We have a brand new blog series all about this topic. Read Five Ways to Turn Business Data into Business Insight Part 1: Get Better\, Not Bigger Dashboards URL: http://www.bondconsultingservices.com/2015/03/11/five-ways-turn-business-data-business-insight-part-1-get-better-not-bigger-dashboards/ See all of our events here: bit.ly/BCSTeamWebinars
LOCATION:Online
UID:e.1956.2418
SEQUENCE:3
DTSTAMP:20260424T045003Z
URL:https://business.lbchamber.com/events/details/business-technology-webinar-how-to-turn-business-data-into-business-insight-04-14-2015-2418
END:VEVENT

END:VCALENDAR
