BEGIN:VCALENDAR
VERSION:2.0
PRODID:-//ChamberMaster//Event Calendar 2.0//EN
METHOD:PUBLISH
X-PUBLISHED-TTL:P3D
REFRESH-INTERVAL:P3D
CALSCALE:GREGORIAN
BEGIN:VEVENT
DTSTART:20150324T170000Z
DTEND:20150324T174500Z
X-MICROSOFT-CDO-ALLDAYEVENT:FALSE
SUMMARY:Business Technology Webinar: Beyond Dynamics: Powering Efficiency & Cost Control
DESCRIPTION:For over a decade\, ReQlogic has provided leading solutions for eProcurement\, requisition\, invoicing\, expense processing and time tracking. With a tight integration into Microsoft Dynamics and the ability to integrate with a range of ERP solutions\, ReQlogic is the right choice for many businesses. Customers choose ReQlogic not only for its robust functionality\, but because of it?s ease of use. SMBs\, Enterprises and Business Technology Decision Makers welcome. See all of our events here: http://bit.ly/BCSTeamWebinars
X-ALT-DESC;FMTTYPE=text/html:For over a decade\, ReQlogic has provided leading solutions for eProcurement\, requisition\, invoicing\, expense processing and time tracking. With a tight integration into Microsoft Dynamics and the ability to integrate with a range of ERP solutions\, ReQlogic is the right choice for many businesses. Customers choose ReQlogic not only for its robust functionality\, but because of it?s ease of use. SMBs\, Enterprises and Business Technology Decision Makers welcome. See all of our events here: http://bit.ly/BCSTeamWebinars
LOCATION:Online
UID:e.1956.2419
SEQUENCE:3
DTSTAMP:20260424T060157Z
URL:https://business.lbchamber.com/events/details/business-technology-webinar-beyond-dynamics-powering-efficiency-cost-control-03-24-2015-2419
END:VEVENT

END:VCALENDAR
