BEGIN:VCALENDAR
VERSION:2.0
PRODID:-//ChamberMaster//Event Calendar 2.0//EN
METHOD:PUBLISH
X-PUBLISHED-TTL:P3D
REFRESH-INTERVAL:P3D
CALSCALE:GREGORIAN
BEGIN:VEVENT
DTSTART:20141031T003000Z
DTEND:20141031T023000Z
X-MICROSOFT-CDO-ALLDAYEVENT:FALSE
SUMMARY:Business Networking Mixer
DESCRIPTION:The Long Beach Airport Association and The Long Beach Chamber want to invite all airport businesses\, aircraft owners\, pilots\, mechanics and aviation community enthusiasts out for a fun night of networking. Be ready to taste taco's in The Long Beach Marriott's own Tamarindo's Margarita Bar & Cantina. Hosted appetizers will be provided and no host bar. We hope to see you there!
X-ALT-DESC;FMTTYPE=text/html:The Long Beach Airport Association and The Long Beach Chamber want to invite all airport businesses\, aircraft owners\, pilots\, mechanics and aviation community enthusiasts out for a fun night of networking. Be ready to taste taco&#39\;s in The Long Beach Marriott&#39\;s own Tamarindo&#39\;s Margarita Bar &amp\; Cantina. Hosted appetizers will be provided and no host bar. We hope to see you there!
LOCATION:Tamarindo's Margarita Bar & Cantina Long Beach Marriott 4700 Airport Plaza Dr. Long Beach\, CA 90815 *Complimentary Parking in Front and Back of Hotel
UID:e.1956.2311
SEQUENCE:3
DTSTAMP:20260422T065109Z
URL:https://business.lbchamber.com/events/details/business-networking-mixer-10-30-2014-2311
END:VEVENT

END:VCALENDAR
