BEGIN:VCALENDAR
VERSION:2.0
PRODID:-//ChamberMaster//Event Calendar 2.0//EN
METHOD:PUBLISH
X-PUBLISHED-TTL:P3D
REFRESH-INTERVAL:P3D
CALSCALE:GREGORIAN
BEGIN:VEVENT
DTSTART:20141017T003000Z
DTEND:20141017T023000Z
X-MICROSOFT-CDO-ALLDAYEVENT:FALSE
SUMMARY:Business Networking Mixer
DESCRIPTION:Come join the Long Beach Area Chamber for a fun filled night of networking while in the exclusive Parlour at The Federal Bar. Enjoy delicious hors d'oeuvres\, no host bar and make new connections. We hope to see you there!
X-ALT-DESC;FMTTYPE=text/html:Come join the Long Beach Area Chamber for a fun filled night of networking while in the exclusive Parlour at The Federal Bar. Enjoy delicious hors d&#39\;oeuvres\, no host bar and make new connections. We hope to see you there!&nbsp\;
LOCATION:The Federal Bar 102 Pine Ave. Long Beach\, CA
UID:e.1956.2310
SEQUENCE:3
DTSTAMP:20260422T070142Z
URL:https://business.lbchamber.com/events/details/business-networking-mixer-10-16-2014-2310
END:VEVENT

END:VCALENDAR
