BEGIN:VCALENDAR
VERSION:2.0
PRODID:-//ChamberMaster//Event Calendar 2.0//EN
METHOD:PUBLISH
X-PUBLISHED-TTL:P3D
REFRESH-INTERVAL:P3D
CALSCALE:GREGORIAN
BEGIN:VEVENT
DTSTART:20191207T180000Z
DTEND:20191207T231000Z
X-MICROSOFT-CDO-ALLDAYEVENT:FALSE
SUMMARY:Business Marketing Axxelerator Bootcamp
DESCRIPTION:steal our marketing secrets and use them in your business No-Fluff\, Hands-On\, Personalized Training - Customize Marketing for Your Business - Create a Simple System to Consistently - Get New Clients - Find Powerful Messaging that Moves Prospects to Take Action You will learn marketing secrets you can't find anywhere else: - How to create a powerful marketing message to create excitement around your product or service - What key questions most business owners don't ask about marketing\, but should - How anyone can conduct valuable market research This event is great for freelancers\, entrepreneurs\, and business owners -- whether you have been in business for one day or ten years!
X-ALT-DESC;FMTTYPE=text/html:steal our marketing secrets and use them in your business No-Fluff\, Hands-On\, Personalized Training - Customize Marketing for Your Business - Create a Simple System to Consistently - Get New Clients - Find Powerful Messaging that Moves Prospects to Take Action You will learn marketing secrets you can&rsquo\;t find anywhere else: - How to create a powerful marketing message to create excitement around your product or service - What key questions most business owners don&rsquo\;t ask about marketing\, but should - How anyone can conduct valuable market research This event is great for freelancers\, entrepreneurs\, and business owners -- whether you have been in business for one day or ten years!
LOCATION:World Trade Center 1 World Trade Center\, Long Beach CA 90802
UID:e.1956.4645
SEQUENCE:3
DTSTAMP:20260419T133203Z
URL:https://business.lbchamber.com/events/details/business-marketing-axxelerator-bootcamp-4645
END:VEVENT

END:VCALENDAR
