BEGIN:VCALENDAR
VERSION:2.0
PRODID:-//ChamberMaster//Event Calendar 2.0//EN
METHOD:PUBLISH
X-PUBLISHED-TTL:P3D
REFRESH-INTERVAL:P3D
CALSCALE:GREGORIAN
BEGIN:VEVENT
DTSTART:20181028T020000Z
DTEND:20181117T070000Z
X-MICROSOFT-CDO-ALLDAYEVENT:FALSE
SUMMARY:"Built Quilt" Art Opening + Show
DESCRIPTION:Wood Quilts & Engravings by Troy Murrah On Display October 27 - November 16\, 2018 Combining inherited family skills of quilting and carpentry\, Troy Murrah uses thousands of wood fragments\, cut from leftover remnants\, to construct elaborate wall hangings that replicate traditional quilt block patterns. Take a closer a look\, and find engravings of wallpaper patterns  designed by the artist using imagery influenced by his past. What results are personal commentaries on the strength of our mothers\, the ability to transform even the most humblest living conditions into a home\, and remembering that chivalry is not dead. OPENING RECEPTION Saturday\, October 27th\, 7 pm - 11 pm FREE | 21+ Live music from RESTAVRANT! + Clifton aka DJ Soft Touch RSVP: https://www.facebook.com/events/281827679099776/
X-ALT-DESC;FMTTYPE=text/html:Wood Quilts &amp\; Engravings by Troy Murrah On Display October 27 - November 16\, 2018 Combining inherited family skills of quilting and carpentry\, Troy Murrah uses thousands of wood fragments\, cut from leftover remnants\, to construct elaborate wall hangings that replicate traditional quilt block patterns. Take a closer a look\, and find engravings of wallpaper patterns&ndash\;&ndash\;designed by the artist using imagery influenced by his past. What results are personal commentaries on the strength of our mothers\, the ability to transform even the most humblest living conditions into a home\, and remembering that chivalry is not dead. OPENING RECEPTION Saturday\, October 27th\, 7 pm - 11 pm FREE | 21+ Live music from RESTAVRANT! + Clifton aka DJ Soft Touch RSVP: https://www.facebook.com/events/281827679099776/
LOCATION:4th STREET VINE\, 2142 E. 4th St\, Long Beach\, CA 90814
UID:e.1956.4361
SEQUENCE:3
DTSTAMP:20260420T060135Z
URL:https://business.lbchamber.com/events/details/built-quilt-art-opening-show-4361
END:VEVENT

END:VCALENDAR
