BEGIN:VCALENDAR
VERSION:2.0
PRODID:-//ChamberMaster//Event Calendar 2.0//EN
METHOD:PUBLISH
X-PUBLISHED-TTL:P3D
REFRESH-INTERVAL:P3D
CALSCALE:GREGORIAN
BEGIN:VEVENT
DTSTART:20190223T170000Z
DTEND:20190223T224500Z
X-MICROSOFT-CDO-ALLDAYEVENT:FALSE
SUMMARY:Building Healthy Relationships Youth Conference
DESCRIPTION:Statistics indicate that nearly 1.5 million high school students nationwide experience physical abuse from a dating partner each year and 1 in 5 teens has experienced emotional abuse from a dating partner. In response to the enormous need for youth focused prevention education\, WomenShelter of Long Beach (WSLB) is hosting its second annual FREE Building Healthy Relationships through Prevention Education Youth Conference (BHR Youth Conference) on Saturday\, February 23\, 2019 from 9:30am-2:45pm in recognition of National Teen Dating Violence Awareness Month (TDVAM). To learn more and to register for this free event\, please visit our website: https://www.womenshelterlb.org/bhr19/
X-ALT-DESC;FMTTYPE=text/html:Statistics indicate that nearly 1.5 million high school students nationwide experience physical abuse from a dating partner each year and 1 in 5 teens has experienced emotional abuse from a dating partner. In response to the enormous need for youth focused prevention education\, WomenShelter of Long Beach (WSLB) is hosting its second annual FREE Building Healthy Relationships through Prevention Education Youth Conference (BHR Youth Conference) on Saturday\, February 23\, 2019 from 9:30am-2:45pm in recognition of National Teen Dating Violence Awareness Month (TDVAM). To learn more and to register for this free event\, please visit our website: https://www.womenshelterlb.org/bhr19/
LOCATION:Renaissance Long Beach Hotel 111 E. Ocean Blvd. Long Beach\, CA 90802
UID:e.1956.4406
SEQUENCE:3
DTSTAMP:20260420T012413Z
URL:https://business.lbchamber.com/events/details/building-healthy-relationships-youth-conference-4406
END:VEVENT

END:VCALENDAR
