BEGIN:VCALENDAR
VERSION:2.0
PRODID:-//ChamberMaster//Event Calendar 2.0//EN
METHOD:PUBLISH
X-PUBLISHED-TTL:P3D
REFRESH-INTERVAL:P3D
CALSCALE:GREGORIAN
BEGIN:VEVENT
DTSTART:20150117T210000Z
DTEND:20150119T030000Z
X-MICROSOFT-CDO-ALLDAYEVENT:FALSE
SUMMARY:Buckaroo Days
DESCRIPTION:Old West Fun! Gunfights Gun slinging & Trick Roping Kids Corral Black smithing & Gold Panning Line Dance Lessons Live Music
X-ALT-DESC;FMTTYPE=text/html:Old West Fun! Gunfights Gun slinging &amp\; Trick Roping Kids Corral Black smithing &amp\; Gold Panning Line Dance Lessons Live Music
LOCATION:Shoreline Village
UID:e.1956.2368
SEQUENCE:3
DTSTAMP:20260424T082837Z
URL:https://business.lbchamber.com/events/details/buckaroo-days-01-17-2015-2368
END:VEVENT

END:VCALENDAR
