BEGIN:VCALENDAR
VERSION:2.0
PRODID:-//ChamberMaster//Event Calendar 2.0//EN
METHOD:PUBLISH
X-PUBLISHED-TTL:P3D
REFRESH-INTERVAL:P3D
CALSCALE:GREGORIAN
BEGIN:VEVENT
DTSTART:20180902T220000Z
DTEND:20180903T020000Z
X-MICROSOFT-CDO-ALLDAYEVENT:FALSE
SUMMARY:Brews Blues & BBQ
DESCRIPTION:Brews\, Blues & BBQ - at the Pier! The S.S. Lane Victory is excited to present the 2018 BrewFest - Brews\, Blues & BBQ - at the Pier! Over 200\,000 visitors will descend on San Pedro for the annual FLEET WEEK celebration which includes various military ships\, demonstrations\, live music and entertainment\, and a variety of local events for thousands of visiting military personnel from all branches of the armed forces. The Lane Victory Brewfest taking place Sunday\, September 2nd\, from 3-7pm (separate ticket) will offer guests a fun-filled sunny day with the opportunity to sample dozens of craft brews\, ciders and other libations\; great food trucks on hand (additional cost) and non-stop music from the hit 80s Tribute Band 'Flashpants' and Blinded By The Blues\; challenge your friends to a game of Giant Jenga or Bocce\; browse lifestyle exhibitors\, and more. BREWERIES already confirmed include: Angel City Brewery\, Reel Brewery. Peroni\, High Water Brewing\, Roadhouse Brewery\, Scholb Premium Ales\, Timeless Pints Brewing\, Dude's Brewing Company\, Old Stump Brewing\, Charlie's Beer Company\, Boomtown Brewery and more announced every day. You can also take a break and tour the S.S. Lane Victory\, a classic Merchant Marine ship built in San Pedro in 1945 to serve in World War II\, Korean War and Vietnam War\, before returning to her home in San Pedro - now designated as a National Historic Landmark. WHERE: The S.S. Lane Victory - ship and pier\, 3600 Miner Street\, San Pedro 90761 WHEN: Sunday\, September 2nd\, 2018 - 3pm - 7pm WHY: To enjoy a fun filled day at the Pier\, while bringing awareness to this historic ship and helping to raise funds to maintain her. 100% of the net proceeds benefit the S.S. Lane Victory\, operated by the USMMVWWII\, a 501 c 3 non profit organization.
X-ALT-DESC;FMTTYPE=text/html:Brews\, Blues &amp\; BBQ - at the Pier! The S.S. Lane Victory is excited to present the 2018 BrewFest - Brews\, Blues &amp\; BBQ - at the Pier! Over 200\,000 visitors will descend on San Pedro for the annual FLEET WEEK celebration which includes various military ships\, demonstrations\, live music and entertainment\, and a variety of local events for thousands of visiting military personnel from all branches of the armed forces. The Lane Victory Brewfest taking place Sunday\, September 2nd\, from 3-7pm (separate ticket) will offer guests a fun-filled sunny day with the opportunity to sample dozens of craft brews\, ciders and other libations\; great food trucks on hand (additional cost) and non-stop music from the hit 80s Tribute Band &#39\;Flashpants&#39\; and Blinded By The Blues\; challenge your friends to a game of Giant Jenga or Bocce\; browse lifestyle exhibitors\, and more. BREWERIES already confirmed include: Angel City Brewery\, Reel Brewery. Peroni\, High Water Brewing\, Roadhouse Brewery\, Scholb Premium Ales\, Timeless Pints Brewing\, Dude&#39\;s Brewing Company\, Old Stump Brewing\, Charlie&#39\;s Beer Company\, Boomtown Brewery and more announced every day. You can also take a break and tour the S.S. Lane Victory\, a classic Merchant Marine ship built in San Pedro in 1945 to serve in World War II\, Korean War and Vietnam War\, before returning to her home in San Pedro - now designated as a National Historic Landmark. WHERE: The S.S. Lane Victory - ship and pier\, 3600 Miner Street\, San Pedro 90761 WHEN: Sunday\, September 2nd\, 2018 - 3pm - 7pm WHY: To enjoy a fun filled day at the Pier\, while bringing awareness to this historic ship and helping to raise funds to maintain her. 100% of the net proceeds benefit the S.S. Lane Victory\, operated by the USMMVWWII\, a 501 c 3 non profit organization.
LOCATION:S.S. Lane Victory 3600 Miner St. San Pedro
UID:e.1956.4344
SEQUENCE:3
DTSTAMP:20260420T090418Z
URL:https://business.lbchamber.com/events/details/brews-blues-bbq-4344
END:VEVENT

END:VCALENDAR
