BEGIN:VCALENDAR
VERSION:2.0
PRODID:-//ChamberMaster//Event Calendar 2.0//EN
METHOD:PUBLISH
X-PUBLISHED-TTL:P3D
REFRESH-INTERVAL:P3D
CALSCALE:GREGORIAN
BEGIN:VEVENT
DTSTART:20180422T000000Z
DTEND:20180422T060000Z
X-MICROSOFT-CDO-ALLDAYEVENT:FALSE
SUMMARY:Boys & Girls Clubs of Long Beach Annual Gala
DESCRIPTION:Join us for the 2018 Boys & Girls Clubs of Long Beach gala that will feature an amazing live and silent auction\, delicious dinner\, program from our kids\, and live music. For nearly 77 years\, the Boys & Girls Clubs of Long Beach has provided after school programs for youth from ages 6 to 18. Offering more than 20 programs in five Core Program Areas: Character & Leadership Development\; Education & Career Preparation\; the Arts & Culture\; Health & Life Skills\; and Fitness\, Sports\, and Recreation\, the Clubs serve over 4\,500 youth per year at 11 locations throughout the city.
X-ALT-DESC;FMTTYPE=text/html:Join us for the 2018 Boys &amp\; Girls Clubs of Long Beach gala that will feature an amazing live and silent auction\, delicious dinner\, program from our kids\, and live music. For nearly 77 years\, the Boys &amp\; Girls Clubs of Long Beach has provided after school programs for youth from ages 6 to 18. Offering more than 20 programs in five Core Program Areas: Character &amp\; Leadership Development\; Education &amp\; Career Preparation\; the Arts &amp\; Culture\; Health &amp\; Life Skills\; and Fitness\, Sports\, and Recreation\, the Clubs serve over 4\,500 youth per year at 11 locations throughout the city.
LOCATION:TBD
UID:e.1956.3135
SEQUENCE:3
DTSTAMP:20260420T155502Z
URL:https://business.lbchamber.com/events/details/boys-girls-clubs-of-long-beach-annual-gala-3135
END:VEVENT

END:VCALENDAR
