BEGIN:VCALENDAR
VERSION:2.0
PRODID:-//ChamberMaster//Event Calendar 2.0//EN
METHOD:PUBLISH
X-PUBLISHED-TTL:P3D
REFRESH-INTERVAL:P3D
CALSCALE:GREGORIAN
BEGIN:VEVENT
DTSTART;VALUE=DATE:20140405
DTEND;VALUE=DATE:20140406
TRANSP:TRANSPARENT
X-MICROSOFT-CDO-ALLDAYEVENT:TRUE
SUMMARY:Boys & Girls Club of Long Beach 75th Anniversary Gala Dinner & Auction
DESCRIPTION:
X-ALT-DESC;FMTTYPE=text/html:
LOCATION:
UID:e.1956.1205
SEQUENCE:3
DTSTAMP:20260424T205948Z
URL:https://business.lbchamber.com/events/details/boys-girls-club-of-long-beach-75th-anniversary-gala-dinner-auction-04-05-2014-1205
END:VEVENT

END:VCALENDAR
