BEGIN:VCALENDAR
VERSION:2.0
PRODID:-//ChamberMaster//Event Calendar 2.0//EN
METHOD:PUBLISH
X-PUBLISHED-TTL:P3D
REFRESH-INTERVAL:P3D
CALSCALE:GREGORIAN
BEGIN:VEVENT
DTSTART:20140916T170000Z
DTEND:20140916T230000Z
X-MICROSOFT-CDO-ALLDAYEVENT:FALSE
SUMMARY:Boeing Job Fair - September 16 - Boeing C17 site
DESCRIPTION:Greetings Chamber of Commerce Partners! Hope you've been having a super summer and ready for a fantastic fall. The LAEDC is partnering with The Boeing Company\, PGWIN and the State of California EDD to a promote the Gateway to Opportunities: Job and Resource Fair. The event is taking place September 16th at the Boeing C17 facility in Long Beach but employers must register by August 26th. We'd appreciate your help in outreaching to employers throughout Los Angeles County. Also great if you could post this event on your chamber's event calendar. Skills are transferable and the skilled individuals can work in a variety of industries. Skilled employees with stable work history and even candidates with experience in those hard to fill positions will be in attendance. Employers continue to tell us that they cannot find qualified candidates\, well here they are\, Please see attached flier and I've included some highlights below: The Pacific Gateway Workforce Investment Network\, in partnership with Boeing C17 and the State of California EDD\, is hosting the Gateway to Opportunities: Job and Resource Fair for Boeing employees impacted by the plant closure effective July 2015. Job Fair will be held on September 16th from 10am - 4 pm at the Boeing C17 facility in Long Beach. There are no fees to participate as a business or service provider! You are cordially invited to participate. Gateway to Opportunities is seeking employers with current job openings for a variety of skilled individuals in: Administrative Management\, Electricians\, Engineering Professionals\, Office Administration and Support\, Planners\, Procurement Professionals\, Production Aircraft Mechanics\, Professional Administrators As an Employer\, you will have the opportunity to interface directly with top talent. Skilled employees with stable work history and even candidates with experience in those hard to fill positions will be in attendance. To register\, please visit http://dft.ba/-request and complete the Exhibitor Request form. Exhibitor Request Forms must be submitted by Tuesday\, August 26\, 2014. If you have further questions\, please contact Karla.Olivas@pacific-gateway.org or by calling 562-570-3892.
X-ALT-DESC;FMTTYPE=text/html:Greetings Chamber of Commerce Partners! Hope you&#39\;ve been having a super summer and ready for a fantastic fall. The LAEDC is partnering with The Boeing Company\, PGWIN and the State of California EDD to a promote the Gateway to Opportunities: Job and Resource Fair. The event is taking place September 16th at the Boeing C17 facility in Long Beach but employers must register by August 26th. We&#39\;d appreciate your help in outreaching to employers throughout Los Angeles County. Also great if you could post this event on your chamber&#39\;s event calendar. Skills are transferable and the skilled individuals can work in a variety of industries. Skilled employees with stable work history and even candidates with experience in those hard to fill positions will be in attendance. Employers continue to tell us that they cannot find qualified candidates\, well here they are\, Please see attached flier and I&#39\;ve included some highlights below: The Pacific Gateway Workforce Investment Network\, in partnership with Boeing C17 and the State of California EDD\, is hosting the Gateway to Opportunities: Job and Resource Fair for Boeing employees impacted by the plant closure effective July 2015. Job Fair will be held on September 16th from 10am&nbsp\;- 4 pm at the Boeing C17 facility in Long Beach. There are no fees to participate as a business or service provider! You are cordially invited to participate. Gateway to Opportunities is seeking employers with current job openings for a variety of skilled individuals in: Administrative Management\, Electricians\, Engineering Professionals\, Office Administration and Support\, Planners\, Procurement Professionals\, Production Aircraft Mechanics\, Professional Administrators As an Employer\, you will have the opportunity to interface directly with top talent. Skilled employees with stable work history and even candidates with experience in those hard to fill positions will be in attendance. To register\, please visit http://dft.ba/-request and complete the Exhibitor Request form. Exhibitor Request Forms must be submitted by Tuesday\, August 26\, 2014. If you have further questions\, please contact Karla.Olivas@pacific-gateway.org or by calling 562-570-3892.
LOCATION:Boeing C17 2401 E. Wardlow Road\, Long Beach\, 90807
UID:e.1956.1286
SEQUENCE:3
DTSTAMP:20260424T142739Z
URL:https://business.lbchamber.com/events/details/boeing-job-fair-september-16-boeing-c17-site-09-16-2014-1286
END:VEVENT

END:VCALENDAR
