BEGIN:VCALENDAR
VERSION:2.0
PRODID:-//ChamberMaster//Event Calendar 2.0//EN
METHOD:PUBLISH
X-PUBLISHED-TTL:P3D
REFRESH-INTERVAL:P3D
CALSCALE:GREGORIAN
BEGIN:VEVENT
DTSTART:20140513T230000Z
DTEND:20140514T013000Z
X-MICROSOFT-CDO-ALLDAYEVENT:FALSE
SUMMARY:Bocce Ball Tournament
DESCRIPTION:Chamber Committees - the Women's Business Council and International Business Association host a Bocce Ball Tournament! Teams of 4 compete for prizes! Tournament includes a taco bar\, parking\, awards and a magnificent view of Long Beach from the Hotel Maya.
X-ALT-DESC;FMTTYPE=text/html:Chamber Committees - the Women&#39\;s Business Council and International Business Association host a Bocce Ball Tournament! Teams of 4 compete for prizes! Tournament includes a taco bar\, parking\, awards and a magnificent view of Long Beach from the Hotel Maya.
LOCATION:Hotel Maya 700 Queensway Drive Long Beach\, CA 90802
UID:e.1956.1244
SEQUENCE:3
DTSTAMP:20260422T134751Z
URL:https://business.lbchamber.com/events/details/bocce-ball-tournament-05-13-2014-1244
END:VEVENT

END:VCALENDAR
