BEGIN:VCALENDAR
VERSION:2.0
PRODID:-//ChamberMaster//Event Calendar 2.0//EN
METHOD:PUBLISH
X-PUBLISHED-TTL:P3D
REFRESH-INTERVAL:P3D
CALSCALE:GREGORIAN
BEGIN:VEVENT
DTSTART:20190808T020000Z
DTEND:20190808T050000Z
X-MICROSOFT-CDO-ALLDAYEVENT:FALSE
SUMMARY:Beyond the Poseidon Adventure
DESCRIPTION:Catalina Island Museum hosts family-friendly Movies at the Museum\, an annual summer program taking advantage of our outdoor amphitheater and Avalon's beautiful summer nights. Join us on Wednesday\, August 7 for a screening of Beyond the Poseidon Adventure\, an action-adventure film. The water scenes in the movie were famously filmed off the shore of Catalina Island. Bring the whole family for an action-packed night of fun. Beyond the Poseidon Adventure is rated PG. Wine\, beer and a variety of movie snacks will be available for purchase.
X-ALT-DESC;FMTTYPE=text/html:Catalina Island Museum hosts family-friendly Movies at the Museum\, an annual summer program taking advantage of our outdoor amphitheater and Avalon&#39\;s beautiful summer nights. Join us on Wednesday\, August 7 for a screening of Beyond the Poseidon Adventure\, an action-adventure film. The water scenes in the movie were famously filmed off the shore of Catalina Island. Bring the whole family for an action-packed night of fun. Beyond the Poseidon Adventure is rated PG. Wine\, beer and a variety of movie snacks will be available for purchase.
LOCATION:Catalina Island Museum 217 Metropole Avenue\, Avalon CA 90704
UID:e.1956.4547
SEQUENCE:3
DTSTAMP:20260419T181031Z
URL:https://business.lbchamber.com/events/details/beyond-the-poseidon-adventure-4547
END:VEVENT

END:VCALENDAR
