BEGIN:VCALENDAR
VERSION:2.0
PRODID:-//ChamberMaster//Event Calendar 2.0//EN
METHOD:PUBLISH
X-PUBLISHED-TTL:P3D
REFRESH-INTERVAL:P3D
CALSCALE:GREGORIAN
BEGIN:VEVENT
DTSTART:20190420T180000Z
DTEND:20190421T000000Z
X-MICROSOFT-CDO-ALLDAYEVENT:FALSE
SUMMARY:Beats & Bites Earth Day Festival
DESCRIPTION:Celebrate Earth Day with us this year! Join SJLI and Compton Creek Mosquito Abatement District at Beats & Bites 2019 Earth Day Festival. The event will take place at Davis Middle School in Compton on Saturday\, April 20th\, 2019 from 11am-5pm. Bring the entire family to enjoy live music\, food\, and fun activities that promote health\, wellness\, mosquito abatement\, and environmental awareness! Special performances include Grammy nominated artist Yo-Yo\, Elaine Gibbs & the NU Soul Band\, Kim Yarbrough & Jesse Campbell(from The Voice)\, and Ronee Martin (from America's Got Talent). RSVP today at comptonearthday.eventbrite.com!
X-ALT-DESC;FMTTYPE=text/html:Celebrate Earth Day with us this year! Join SJLI and Compton Creek Mosquito Abatement District at Beats &amp\; Bites 2019 Earth Day Festival. The event will take place at Davis Middle School in Compton on Saturday\, April 20th\, 2019 from 11am-5pm. Bring the entire family to enjoy live music\, food\, and fun activities that promote health\, wellness\, mosquito abatement\, and environmental awareness! Special performances include Grammy nominated artist Yo-Yo\, Elaine Gibbs &amp\; the NU Soul Band\, Kim Yarbrough &amp\; Jesse Campbell(from The Voice)\, and Ronee Martin (from America&#39\;s Got Talent). RSVP today at comptonearthday.eventbrite.com!
LOCATION:Davis Middle School
UID:e.1956.4465
SEQUENCE:3
DTSTAMP:20260419T224249Z
URL:https://business.lbchamber.com/events/details/beats-bites-earth-day-festival-4465
END:VEVENT

END:VCALENDAR
