BEGIN:VCALENDAR
VERSION:2.0
PRODID:-//ChamberMaster//Event Calendar 2.0//EN
METHOD:PUBLISH
X-PUBLISHED-TTL:P3D
REFRESH-INTERVAL:P3D
CALSCALE:GREGORIAN
BEGIN:VEVENT
DTSTART:20151017T190000Z
DTEND:20151017T230000Z
X-MICROSOFT-CDO-ALLDAYEVENT:FALSE
SUMMARY:Beacon For Him - Anniversary & Ribbon Cutting
DESCRIPTION:Come and join us to celebrate our one-year anniversary.  We are hosting an open house so that we may better connect with our community and share our exciting vision for the future.  Long Beach is an amazing city full of wonderful people.  We have seen first-hand that when a community stands together to make a difference\, positive change occurs.\n\n\n\nWe are a new and rapidly growing non-profit organization serving our most marginalized Long Beach residents.  We offer hot meals\, clean clothing\, a library stocked with books and computer access\, assistance to resources\, recovery programs\, a pet sanctuary and much more.\n\n\n\nOur mission is to bring hope to the hopeless and to love people right where we find them.
X-ALT-DESC;FMTTYPE=text/html:<br />\nCome and join us to celebrate our one-year anniversary. &nbsp\;We are hosting an open house so that we may better connect with our community and share our exciting vision for the future. &nbsp\;Long Beach is an amazing city full of wonderful people. &nbsp\;We have seen first-hand that when a community stands together to make a difference\, positive change occurs.<br />\n<br />\nWe are a new and rapidly growing non-profit organization serving our most marginalized Long Beach residents. &nbsp\;We offer hot meals\, clean clothing\, a library stocked with books and computer access\, assistance to resources\, recovery programs\, a pet sanctuary and much more.<br />\n<br />\nOur mission is to bring hope to the hopeless and to love people right where we find them.
LOCATION:439 W. Anaheim Street Long Beach\, CA 90813 *Parking available at Seaside Park behind our facility off of Magnolia
UID:e.1956.2538
SEQUENCE:3
DTSTAMP:20260423T223730Z
URL:https://business.lbchamber.com/events/details/beacon-for-him-anniversary-ribbon-cutting-10-17-2015-2538
END:VEVENT

END:VCALENDAR
