BEGIN:VCALENDAR
VERSION:2.0
PRODID:-//ChamberMaster//Event Calendar 2.0//EN
METHOD:PUBLISH
X-PUBLISHED-TTL:P3D
REFRESH-INTERVAL:P3D
CALSCALE:GREGORIAN
BEGIN:VEVENT
DTSTART:20190413T230000Z
DTEND:20190414T040000Z
X-MICROSOFT-CDO-ALLDAYEVENT:FALSE
SUMMARY:Backyard BBQ Fundraiser for Long Beach Community Table
DESCRIPTION:Come support the mission of Long Beach Community Table to bring nutritious food\, clothing\, and other necessities to our neighbors in need! This magical benefit will be hosted at a gorgeous home showcasing one of the vegetable gardens built by our team. Enjoy a delicious buffet\, cash bar\, live music\, silent auction\, art painting\, fun outdoor activities\, and more. Limited residential street parking\; please walk\, bike\, carpool\, or use a rideshare service. Prepaid admissions get one free adult drink ticket: bit.ly/2uNg5in
X-ALT-DESC;FMTTYPE=text/html:Come support the mission of Long Beach Community Table to bring nutritious food\, clothing\, and other necessities to our neighbors in need! This magical benefit will be hosted at a gorgeous home showcasing one of the vegetable gardens built by our team. Enjoy a delicious buffet\, cash bar\, live music\, silent auction\, art painting\, fun outdoor activities\, and more. Limited residential street parking\; please walk\, bike\, carpool\, or use a rideshare service. Prepaid admissions get one free adult drink ticket: bit.ly/2uNg5in
LOCATION:Private Home\, 2435 E 5th St\, Long Beach\, CA 90814
UID:e.1956.4467
SEQUENCE:3
DTSTAMP:20260419T224018Z
URL:https://business.lbchamber.com/events/details/backyard-bbq-fundraiser-for-long-beach-community-table-4467
END:VEVENT

END:VCALENDAR
