BEGIN:VCALENDAR
VERSION:2.0
PRODID:-//ChamberMaster//Event Calendar 2.0//EN
METHOD:PUBLISH
X-PUBLISHED-TTL:P3D
REFRESH-INTERVAL:P3D
CALSCALE:GREGORIAN
BEGIN:VEVENT
DTSTART:20191214T020000Z
DTEND:20191214T060000Z
X-MICROSOFT-CDO-ALLDAYEVENT:FALSE
SUMMARY:Artist Karin Brauns Exhibit
DESCRIPTION:Karin Brauns "The Whole World in Love" www.karinbrauns.com Hellada Gallery is proud to present Karin Brauns and her exhibit "The Whole World in Love". This is a collection of stunning paintings of animals in pairs - with love. From the artist: "My priority for every piece is to capture a specific moment of life in a colorful\, balanced way so every creature presents itself as an 'Anihuminal.' Each being\, whether it is a lion\, elephant\, or bird\, has its own heartbeat\, identity\, and set of behaviors. However\, all have qualities we can relate to affection\, love\, pride\, and soul. These many elements come together in my mind\, and then on the canvas. My process of representing animals this way moves me deeply and I hope the viewers can feel what I do." All works are available for purchase.
X-ALT-DESC;FMTTYPE=text/html:Karin Brauns &quot\;The Whole World in Love&quot\; www.karinbrauns.com Hellada Gallery is proud to present Karin Brauns and her exhibit &quot\;The Whole World in Love&quot\;. This is a collection of stunning paintings of animals in pairs - with love. From the artist: &ldquo\;My priority for every piece is to capture a specific moment of life in a colorful\, balanced way so every creature presents itself as an &lsquo\;Anihuminal.&rsquo\; Each being\, whether it is a lion\, elephant\, or bird\, has its own heartbeat\, identity\, and set of behaviors. However\, all have qualities we can relate to&mdash\;affection\, love\, pride\, and soul. These many elements come together in my mind\, and then on the canvas. My process of representing animals this way moves me deeply and I hope the viewers can feel what I do.&rdquo\; All works are available for purchase.
LOCATION:Hellada Gallery\, Long Beach. 117 Linden Avenue\, CA 90802
UID:e.1956.4660
SEQUENCE:3
DTSTAMP:20260419T133847Z
URL:https://business.lbchamber.com/events/details/artist-karin-brauns-exhibit-4660
END:VEVENT

END:VCALENDAR
