BEGIN:VCALENDAR
VERSION:2.0
PRODID:-//ChamberMaster//Event Calendar 2.0//EN
METHOD:PUBLISH
X-PUBLISHED-TTL:P3D
REFRESH-INTERVAL:P3D
CALSCALE:GREGORIAN
BEGIN:VEVENT
DTSTART:20140928T220000Z
DTEND:20140929T020000Z
X-MICROSOFT-CDO-ALLDAYEVENT:FALSE
SUMMARY:Andy Street Annual Gala
DESCRIPTION:Annual fundraising event for the Andy Street Community Association to celebrate achievements and support after school program funding for youth in North Long Beach underserved communities.
X-ALT-DESC;FMTTYPE=text/html:Annual fundraising event for the Andy Street Community Association to celebrate achievements and support after school program funding for youth in North Long Beach underserved communities.
LOCATION:El Cedral\, Park Estates\, Long Beach
UID:e.1956.1236
SEQUENCE:3
DTSTAMP:20260424T141923Z
URL:https://business.lbchamber.com/events/details/andy-street-annual-gala-09-28-2014-1236
END:VEVENT

END:VCALENDAR
