BEGIN:VCALENDAR
VERSION:2.0
PRODID:-//ChamberMaster//Event Calendar 2.0//EN
METHOD:PUBLISH
X-PUBLISHED-TTL:P3D
REFRESH-INTERVAL:P3D
CALSCALE:GREGORIAN
BEGIN:VEVENT
DTSTART:20190922T020000Z
DTEND:20190922T040000Z
X-MICROSOFT-CDO-ALLDAYEVENT:FALSE
SUMMARY:An Evening with Tom Papa
DESCRIPTION:Love bread? Love comedy? With more than 20 years as a stand-up comedian\, Tom Papa is one of the top comedic voices in the country\, finding him success in film\, TV\, radio and podcasts as well as on the live stage. When not doing stand-up\, he is busy baking. Tom Papa loves all things bread and especially sourdough bread. Who better to share both of his passions with than the members of the Bread Bakers Guild of America?! Please join us for an evening of lite bites\, refreshments and mixing and mingling with Guild members in your area. We encourage you to invite bread-baking friends to join you and join The Guild.
X-ALT-DESC;FMTTYPE=text/html:Love bread? Love comedy? With more than 20 years as a stand-up comedian\, Tom Papa is one of the top comedic voices in the country\, finding him success in film\, TV\, radio and podcasts as well as on the live stage. When not doing stand-up\, he is busy baking. Tom Papa loves all things bread and especially sourdough bread. Who better to share both of his passions with than the members of the Bread Bakers Guild of America?! Please join us for an evening of lite bites\, refreshments and mixing and mingling with Guild members in your area. We encourage you to invite bread-baking friends to join you and join The Guild.
LOCATION:Long Beach Beer Lab 518 W Willow St Long Beach\, CA 90806
UID:e.1956.4578
SEQUENCE:3
DTSTAMP:20260419T151735Z
URL:https://business.lbchamber.com/events/details/an-evening-with-tom-papa-4578
END:VEVENT

END:VCALENDAR
