BEGIN:VCALENDAR
VERSION:2.0
PRODID:-//ChamberMaster//Event Calendar 2.0//EN
METHOD:PUBLISH
X-PUBLISHED-TTL:P3D
REFRESH-INTERVAL:P3D
CALSCALE:GREGORIAN
BEGIN:VEVENT
DTSTART:20150509T200000Z
DTEND:20150509T220000Z
X-MICROSOFT-CDO-ALLDAYEVENT:FALSE
SUMMARY:Afternoon Tea with Author Shelene Bryan
DESCRIPTION:A Mother?s Day Weekend Afternoon Tea with Shelene Bryan Join Christian Outreach in Action (COA) on May 9 at Grace First Presbyterian Church from 1-3pm for an unique afternoon of inspiration and joy. Renowned author and Tedx speaker Shelene Bryan has agreed to make a rare appearance and share the extraordinary\, moving account that changed her life and inspires audiences across the globe daily. Tickets $30 each. Call 562.432.1440\, email jford@coalongbeach.org or visit www.coalongbeach.org for more information. COA is a nondenominational nonprofit that serves more than 123\,000 hot meals annually to homeless and impoverished individuals in Long Beach\, providing them with stability and a platform on which to rebuild their lives.
X-ALT-DESC;FMTTYPE=text/html:A Mother?s Day Weekend Afternoon Tea with Shelene Bryan Join Christian Outreach in Action (COA) on May 9 at Grace First Presbyterian Church from 1-3pm for an unique afternoon of inspiration and joy. Renowned author and Tedx speaker Shelene Bryan has agreed to make a rare appearance and share the extraordinary\, moving account that changed her life and inspires audiences across the globe daily. Tickets $30 each. Call 562.432.1440\, email jford@coalongbeach.org or visit www.coalongbeach.org for more information. COA is a nondenominational nonprofit that serves more than 123\,000 hot meals annually to homeless and impoverished individuals in Long Beach\, providing them with stability and a platform on which to rebuild their lives.
LOCATION:Grace First Presbyterian Church Ministry Center | 3955 N. Studebaker Road\, Long Beach\, CA 90808
UID:e.1956.2436
SEQUENCE:3
DTSTAMP:20260424T033404Z
URL:https://business.lbchamber.com/events/details/afternoon-tea-with-author-shelene-bryan-05-09-2015-2436
END:VEVENT

END:VCALENDAR
