BEGIN:VCALENDAR
VERSION:2.0
PRODID:-//ChamberMaster//Event Calendar 2.0//EN
METHOD:PUBLISH
X-PUBLISHED-TTL:P3D
REFRESH-INTERVAL:P3D
CALSCALE:GREGORIAN
BEGIN:VEVENT
DTSTART:20150518T163000Z
DTEND:20150518T190000Z
X-MICROSOFT-CDO-ALLDAYEVENT:FALSE
SUMMARY:After School Job Fair
DESCRIPTION:The LA County Office of Education?s After School Technical Assistance Unit is hosting a free job fair on Monday\, May 18th from 9:30am-12:00pm. This job fair is open to anyone interested in full- or part-time jobs working with children and youth in after school programs. Employers will be attending from across the county for immediate hiring. What: LA County-wide After School Job Fair When: Monday\, May 18th from 9:30am-12:00pm Where: Los Angeles County Office of Education\, 12830 Columbia Way\, Downey\, CA 90242\, Room 606 A/B Cost: FREE!
X-ALT-DESC;FMTTYPE=text/html:The LA County Office of Education?s After School Technical Assistance Unit is hosting a free job fair on Monday\, May 18th from 9:30am-12:00pm. This job fair is open to anyone interested in full- or part-time jobs working with children and youth in after school programs. Employers will be attending from across the county for immediate hiring. What: LA County-wide After School Job Fair When: Monday\, May 18th from 9:30am-12:00pm Where: Los Angeles County Office of Education\, 12830 Columbia Way\, Downey\, CA 90242\, Room 606 A/B Cost: FREE!
LOCATION:Los Angeles County Office of Education\, 12830 Columbia Way\, Downey\, CA 90242\, Room 606 A/B
UID:e.1956.2441
SEQUENCE:3
DTSTAMP:20260424T033459Z
URL:https://business.lbchamber.com/events/details/after-school-job-fair-05-18-2015-2441
END:VEVENT

END:VCALENDAR
