BEGIN:VCALENDAR
VERSION:2.0
PRODID:-//ChamberMaster//Event Calendar 2.0//EN
METHOD:PUBLISH
X-PUBLISHED-TTL:P3D
REFRESH-INTERVAL:P3D
CALSCALE:GREGORIAN
BEGIN:VEVENT
DTSTART:20251014T170000Z
DTEND:20251014T220000Z
X-MICROSOFT-CDO-ALLDAYEVENT:FALSE
SUMMARY:Advanced Lash Artist Training
DESCRIPTION:Advanced Lash Training\n\n \n\nReady to elevate your lash services with the safest LED lashing technique on the market? Join illumino in Long Beach for an in-person Lynk-Gel  Master Training and get certified in our patented light-curing lash extension system.\n\n \n\nUnlike traditional adhesives\, Lynk-Gel  uses a visible-light LED device and gel adhesive that cures instantly   no wait time\, no fumes\, and no harsh UV. It's faster\, more comfortable\, and designed with client AND lash artist safety in mind.\n\n \n\nIn this class\, you'll learn:\n\n \n\n- How the Lynk-Gel  Method works\n\n- Why clients (especially sensitive ones!) love it\n\n- Application techniques for better retention + faster services\n\n- How to safely cure lashes using visible light\n\n- What makes this method different from traditional adhesive\n\n \n\nYou'll get:\n\n \n\n- Small group\, in-person training with model practice\n\n- Lynk-Gel  Certificate\n\n- Access to our Online Theory (required before class)\n\n- Lifetime support from our education team\n\n- Exclusive discounts on Lynk-Gel  products\n\n \n\nWhether you're looking to upgrade your lashing skills\, offer something safer for your clients\, or just want to try a totally different system this is the training for you.
X-ALT-DESC;FMTTYPE=text/html:<p><span style="font-family:uictfonttextstylebody">Advanced Lash Training</span></p>\n\n<p>&nbsp\;</p>\n\n<p><span style="font-family:uictfonttextstylebody">Ready to elevate your lash services with the safest LED lashing technique on the market? Join illumino in Long Beach for an in-person Lynk-Gel&reg\; Master Training and get certified in our patented light-curing lash extension system.</span></p>\n\n<p>&nbsp\;</p>\n\n<p><span style="font-family:uictfonttextstylebody">Unlike traditional adhesives\, Lynk-Gel&reg\; uses a visible-light LED device and gel adhesive that cures instantly &mdash\; no wait time\, no fumes\, and no harsh UV. It&rsquo\;s faster\, more comfortable\, and designed with client AND lash artist safety in mind.</span></p>\n\n<p>&nbsp\;</p>\n\n<p><span style="font-family:uictfonttextstylebody">In this class\, you&#39\;ll learn:</span></p>\n\n<p>&nbsp\;</p>\n\n<p><span style="font-family:uictfonttextstylebody">- How the Lynk-Gel&reg\; Method works</span></p>\n\n<p><span style="font-family:uictfonttextstylebody">- Why clients (especially sensitive ones!) love it</span></p>\n\n<p><span style="font-family:uictfonttextstylebody">- Application techniques for better retention + faster services</span></p>\n\n<p><span style="font-family:uictfonttextstylebody">- How to safely cure lashes using visible light</span></p>\n\n<p><span style="font-family:uictfonttextstylebody">- What makes this method different from traditional adhesive</span></p>\n\n<p>&nbsp\;</p>\n\n<p><span style="font-family:uictfonttextstylebody">You&rsquo\;ll get:</span></p>\n\n<p>&nbsp\;</p>\n\n<p><span style="font-family:uictfonttextstylebody">- Small group\, in-person training with model practice</span></p>\n\n<p><span style="font-family:uictfonttextstylebody">- Lynk-Gel&reg\; Certificate</span></p>\n\n<p><span style="font-family:uictfonttextstylebody">- Access to our Online Theory (required before class)</span></p>\n\n<p><span style="font-family:uictfonttextstylebody">- Lifetime support from our education team</span></p>\n\n<p><span style="font-family:uictfonttextstylebody">- Exclusive discounts on Lynk-Gel&reg\; products</span></p>\n\n<p>&nbsp\;</p>\n\n<p><span style="font-family:uictfonttextstylebody">Whether you&rsquo\;re looking to upgrade your lashing skills\, offer something safer for your clients\, or just want to try a totally different system&mdash\;this is the training for you.</span></p>\n
LOCATION:Lash Brow And Beyond 3810 Orange Ave Long Beach\, CA 90807
UID:e.1956.8394
SEQUENCE:3
DTSTAMP:20260423T005550Z
URL:https://business.lbchamber.com/events/details/advanced-lash-artist-training-8394
END:VEVENT

END:VCALENDAR
