BEGIN:VCALENDAR
VERSION:2.0
PRODID:-//ChamberMaster//Event Calendar 2.0//EN
METHOD:PUBLISH
X-PUBLISHED-TTL:P3D
REFRESH-INTERVAL:P3D
CALSCALE:GREGORIAN
BEGIN:VEVENT
DTSTART:20241019T233000Z
DTEND:20241020T033000Z
X-MICROSOFT-CDO-ALLDAYEVENT:FALSE
SUMMARY:A Legacy of Love
DESCRIPTION:17th annual charity event to benefit the Todd Anglin Home for Children\, a 501c3 organization. Doors open at 4:30 pm. The event includes cocktail hour\, silent and live auction\, dinner\, and entertainment.
X-ALT-DESC;FMTTYPE=text/html:17th annual charity event to benefit the Todd Anglin Home for Children\, a 501c3 organization. Doors open at 4:30 pm. The event includes cocktail hour\, silent and live auction\, dinner\, and entertainment.
LOCATION:18041 Goldenwest Street\, Huntington Beach\, CA 92648
UID:e.1956.6179
SEQUENCE:3
DTSTAMP:20260423T172729Z
URL:https://business.lbchamber.com/events/details/a-legacy-of-love-6179
END:VEVENT

END:VCALENDAR
