BEGIN:VCALENDAR
VERSION:2.0
PRODID:-//ChamberMaster//Event Calendar 2.0//EN
METHOD:PUBLISH
X-PUBLISHED-TTL:P3D
REFRESH-INTERVAL:P3D
CALSCALE:GREGORIAN
BEGIN:VEVENT
DTSTART:20140921T200000Z
DTEND:20140922T000000Z
X-MICROSOFT-CDO-ALLDAYEVENT:FALSE
SUMMARY:8th Annual Pirate Festival at Shoreline Village
DESCRIPTION:AHOY MATEY! Every year Shor  eline Village is taken over by dozens of pirates turning the waterfront into a swashbuckling adventure enjoyed by all. Guests young and old are encouraged to come dressed in their best pirate garb and join in the fun. The kids will have a blast with pirate-themed activities including pirate bands\, skits\, balloon artists\, face painters and a treasure hunt. Spirit Cruises' crew will be dressed as pirates and offering onboard harbor tours. There will be a small fee for the pirate themed cruises. Joust Kidding will perform on both days and Ship of Fools will perform on the Off Boardwalk Stage on Saturday. At Shoreline Village this year's antics include swordfights\,  plays\, pirate bands\, bullwhip tricks\, magicians and much more. There will be costume contests for all age groups and plenty of photo ops with your favorite pirates\, including Capt. Hook\, Capt. Jack Sparrow and Davey Jones look-a-likes.
X-ALT-DESC;FMTTYPE=text/html:<p class="MsoNormal" style="margin: 0in 0in 0pt\;"><span style="font-size: 14px\;"><span lang="EN" style="color: rgb(34\, 34\, 34)\; font-family: &quot\;Segoe UI Semibold&quot\;\,&quot\;sans-serif&quot\;\; mso-bidi-font-family: Arial\; mso-ansi-language: EN\;"><o:p>&nbsp\;</o:p></span></span><span style="font-size: 11px\;"><span lang="EN" style="color: rgb(34\, 34\, 34)\; font-family: &quot\;Segoe UI Semibold&quot\;\,&quot\;sans-serif&quot\;\; mso-bidi-font-family: Arial\; mso-ansi-language: EN\;"><o:p></o:p></span></span></p>\n\n<p class="MsoNormal" style="margin: 0in 0in 0pt\;"><span style="font-size: 14px\;"><span lang="EN" style="color: rgb(34\, 34\, 34)\; font-family: &quot\;Segoe UI Semibold&quot\;\,&quot\;sans-serif&quot\;\; mso-bidi-font-family: Arial\; mso-ansi-language: EN\;"><o:p></o:p></span></span></p>\n<span style="font-size: 14px\;"><span style="display: none\;">&nbsp\;</span><span style="display: none\;">&nbsp\;</span></span>\n\n<p class="MsoNormal" style="margin: 0in 0in 0pt\;">&nbsp\;</p>\n\n<p class="MsoNormal" style="margin: 0in 0in 0pt\;"><span style="font-size: 14px\;"><span style="font-size: 11px\;"><span lang="EN" style="color: rgb(34\, 34\, 34)\; font-family: &quot\;Segoe UI Semibold&quot\;\,&quot\;sans-serif&quot\;\; mso-bidi-font-family: Arial\; mso-ansi-language: EN\;"><o:p><span id="cke_bm_96S" style="display: none\;">&nbsp\;<span id="cke_bm_99S" style="display: none\;">&nbsp\;</span></span></o:p></span></span></span></p>\n<span style="font-size: 14px\;"><span lang="EN" style="color: rgb(34\, 34\, 34)\; font-family: &quot\;Segoe UI Semibold&quot\;\,&quot\;sans-serif&quot\;\; mso-bidi-font-family: Arial\; mso-ansi-language: EN\;"><span style="font-size: 11px\;">AHOY MATEY! Every year Shor</span><span style="display: none\;">&nbsp\;</span><span id="cke_bm_99E" style="display: none\;">&nbsp\;</span><span style="font-size: 12px\;">eline Village is taken over by dozens of pirates turning the waterfront into a swashbuckling adventure enjoyed by all. Guests young and old are encouraged to come dressed in their best pirate garb and join in the fun. The kids will have a blast with pirate-themed activities including pirate bands\, skits\, balloon artists\, face painters and a treasure hunt. Spirit Cruises&rsquo\; crew will be dressed as pirates and offering onboard harbor tours. There will be a small fee for the pirate themed cruises. Joust Kidding will perform on both days and Ship of Fools will perform on the Off Boardwalk Stage on Saturday. At Shoreline Village this year&rsquo\;s antics include swordfights\,&nbsp\; plays\, pirate bands\, bullwhip tricks\, magicians and much more. There will be costume contests for all age groups and plenty of photo ops with your favorite pirates\, including Capt. Hook\, Capt. Jack Sparrow and Davey Jones look-a-likes.&nbsp\; </span></span></span>
LOCATION:401-435 Shoreline Village Drive Long Beach Long
UID:e.1956.1285
SEQUENCE:3
DTSTAMP:20260424T142126Z
URL:https://business.lbchamber.com/events/details/8th-annual-pirate-festival-at-shoreline-village-09-21-2014-1285
END:VEVENT

END:VCALENDAR
