BEGIN:VCALENDAR
VERSION:2.0
PRODID:-//ChamberMaster//Event Calendar 2.0//EN
METHOD:PUBLISH
X-PUBLISHED-TTL:P3D
REFRESH-INTERVAL:P3D
CALSCALE:GREGORIAN
BEGIN:VEVENT
DTSTART:20140920T200000Z
DTEND:20140921T020000Z
X-MICROSOFT-CDO-ALLDAYEVENT:FALSE
SUMMARY:8th Annual Pirate Festival at Shoreline Village
DESCRIPTION:AHOY MATEY! Every year Shoreline Village is taken over by dozens of pirates turning the waterfront into a swashbuckling adventure enjoyed by all. Guests young and old are encouraged to come dressed in their best pirate garb and join in the fun. The kids will have a blast with pirate-themed activities including pirate bands\, skits\, balloon artists\, face painters and a treasure hunt. Spirit Cruises' crew will be dressed as pirates and offering onboard harbor tours. There will be a small fee for the pirate themed cruises. Joust Kidding will perform on both days and Ship of Fools will perform on the Off Boardwalk Stage on Saturday. At Shoreline Village this year's antics include swordfights\,  plays\, pirate bands\, bullwhip tricks\, magicians and much more. There will be costume contests for all age groups and plenty of photo ops with your favorite pirates\, including Capt. Hook\, Capt. Jack Sparrow and Davey Jones look-a-likes.  On Saturday night there will be special performances of fire manipulation and fire dancers.
X-ALT-DESC;FMTTYPE=text/html:<font face="Segoe UI Semibold">AHOY MATEY! Every year Shoreline Village is taken over by dozens of pirates turning the waterfront into a swashbuckling adventure enjoyed by all. Guests young and old are encouraged to come dressed in their best pirate garb and join in the fun. The kids will have a blast with pirate-themed activities including pirate bands\, skits\, balloon artists\, face painters and a treasure hunt. Spirit Cruises&rsquo\; crew will be dressed as pirates and offering onboard harbor tours. There will be a small fee for the pirate themed cruises. Joust Kidding will perform on both days and Ship of Fools will perform on the Off Boardwalk Stage on Saturday. At Shoreline Village this year&rsquo\;s antics include swordfights\,&nbsp\; plays\, pirate bands\, bullwhip tricks\, magicians and much more. There will be costume contests for all age groups and plenty of photo ops with your favorite pirates\, including Capt. Hook\, Capt. Jack Sparrow and Davey Jones look-a-likes.&nbsp\; On Saturday night there will&nbsp\;be special&nbsp\;performances of fire manipulation and fire dancers.</font>
LOCATION:Shoreline Village 401-435 Shoreline Village Drive Long Beach\, CA 90802
UID:e.1956.1284
SEQUENCE:3
DTSTAMP:20260424T141405Z
URL:https://business.lbchamber.com/events/details/8th-annual-pirate-festival-at-shoreline-village-09-20-2014-1284
END:VEVENT

END:VCALENDAR
