BEGIN:VCALENDAR
VERSION:2.0
PRODID:-//ChamberMaster//Event Calendar 2.0//EN
METHOD:PUBLISH
X-PUBLISHED-TTL:P3D
REFRESH-INTERVAL:P3D
CALSCALE:GREGORIAN
BEGIN:VEVENT
DTSTART:20180531T180000Z
DTEND:20180531T200000Z
X-MICROSOFT-CDO-ALLDAYEVENT:FALSE
SUMMARY:7th Annual Cottonwood Award Luncheon
DESCRIPTION:The Cottonwood Award will be bestowed upon Long Beach Mayor Robert Garcia with Special Recognition for the Historical Society of Long Beach. Join us as we recognize these leaders and enjoy a Ranch-style Barbecue Luncheon at beautiful Rancho Los Alamitos. We will also be celebrating the 50th anniversary of the gifting of Rancho Los Alamitos to the people of Long Beach.
X-ALT-DESC;FMTTYPE=text/html:The Cottonwood Award will be bestowed upon Long Beach Mayor Robert Garcia with Special Recognition for the Historical Society of Long Beach. Join us as we recognize these leaders and enjoy a Ranch-style Barbecue Luncheon at beautiful Rancho Los Alamitos. We will also be celebrating the 50th anniversary of the gifting of Rancho Los Alamitos to the people of Long Beach.
LOCATION:Rancho Los Alamitos Historic Ranch and Gardens 6400 East Bixby Hill Road\, Long Beach\, CA 90815
UID:e.1956.4249
SEQUENCE:3
DTSTAMP:20260420T143754Z
URL:https://business.lbchamber.com/events/details/7th-annual-cottonwood-award-luncheon-4249
END:VEVENT

END:VCALENDAR
