BEGIN:VCALENDAR
VERSION:2.0
PRODID:-//ChamberMaster//Event Calendar 2.0//EN
METHOD:PUBLISH
X-PUBLISHED-TTL:P3D
REFRESH-INTERVAL:P3D
CALSCALE:GREGORIAN
BEGIN:VEVENT
DTSTART:20150509T140000Z
DTEND:20150509T230000Z
X-MICROSOFT-CDO-ALLDAYEVENT:FALSE
SUMMARY:6th Annual Tour of Long Beach
DESCRIPTION:Ride in the 6th Annual Tour of Long Beach on Saturday\, May 9 and support the Jonathan Jaques Children?s Cancer Center at Miller Children?s & Women?s Hospital Long Beach. Choose from four different routes for every type of rider. After the ride\, enjoy the Finish Line Festival with food\, refreshments and live entertainment. Tour of Long Beach Routes: ? 5-Mile Free Family Fun Ride ? 30-Mile Tour of Long Beach ? 62-Mile Metric Century ? 100-Mile Cruz Gran Fondo
X-ALT-DESC;FMTTYPE=text/html:Ride in the 6th Annual Tour of Long Beach on Saturday\, May 9 and support the Jonathan Jaques Children?s Cancer Center at Miller Children?s &amp\; Women?s Hospital Long Beach. Choose from four different routes for every type of rider. After the ride\, enjoy the Finish Line Festival with food\, refreshments and live entertainment. Tour of Long Beach Routes: ? 5-Mile Free Family Fun Ride ? 30-Mile Tour of Long Beach ? 62-Mile Metric Century ? 100-Mile Cruz Gran Fondo
LOCATION:Marina Green Park Long Beach\, CA 90802
UID:e.1956.2426
SEQUENCE:3
DTSTAMP:20260424T033657Z
URL:https://business.lbchamber.com/events/details/6th-annual-tour-of-long-beach-05-09-2015-2426
END:VEVENT

END:VCALENDAR
