BEGIN:VCALENDAR
VERSION:2.0
PRODID:-//ChamberMaster//Event Calendar 2.0//EN
METHOD:PUBLISH
X-PUBLISHED-TTL:P3D
REFRESH-INTERVAL:P3D
CALSCALE:GREGORIAN
BEGIN:VEVENT
DTSTART:20151005T183000Z
DTEND:20151006T050000Z
X-MICROSOFT-CDO-ALLDAYEVENT:FALSE
SUMMARY:5th Annual Golf Tournament Fore Hope
DESCRIPTION:New Hope Grief Support Community is hosting its 5th Annual Golf Tournament Fore Hope on Monday\, October 5th\, 2015 at Recreation Park Golf Course 18 in Long Beach. The Golf Tournament Fore Hope gives local professionals a fun -filled\, energetic opportunity to play golf\, while knowing that their contributions help ensure that no grieving family goes without the proper grief support. The 4 Man Scramble Tournament includes 18 holes of golf\, range balls\, a putting contest\, closest to the pin\, longest drive\, Mulligans\, lunch provided by Jersey Mike's\, food and refreshments throughout the course and an Awards Dinner. There will also be a raffle and compelling silent auction to further support the fundraising efforts of New Hope. The evening would not be complete without a guest speaker who will share their personal journey of finding hope and healing through the support of New Hope.
X-ALT-DESC;FMTTYPE=text/html:<div>\n<p><span style="font-family:timesnewromanpsmt\; font-size:12pt\; line-height:1.6">New Hope Grief Support Community is hosting its 5th Annual Golf Tournament Fore Hope on Monday\, October 5th\, 2015 at Recreation Park Golf Course 18 in Long Beach. The Golf Tournament Fore Hope gives local professionals a fun&shy\;-filled\, energetic opportunity to play golf\, while knowing that their contributions help ensure that no grieving family goes without the proper grief support. The 4 Man Scramble Tournament includes 18 holes of golf\, range balls\, a putting contest\, closest to the pin\, longest drive\, Mulligans\, lunch provided by Jersey Mike&#39\;s\, food and refreshments throughout the course and an Awards Dinner. There will also be a raffle and compelling silent auction to further support the fundraising efforts of New Hope. The evening would not be complete without a guest speaker who will share their personal journey of finding hope and healing through the support of New Hope.&nbsp\;</span></p>\n</div>\n
LOCATION:Recreation Park Golf Course 18\, Long Beach
UID:e.1956.2508
SEQUENCE:3
DTSTAMP:20260423T230459Z
URL:https://business.lbchamber.com/events/details/5th-annual-golf-tournament-fore-hope-10-05-2015-2508
END:VEVENT

END:VCALENDAR
