BEGIN:VCALENDAR
VERSION:2.0
PRODID:-//ChamberMaster//Event Calendar 2.0//EN
METHOD:PUBLISH
X-PUBLISHED-TTL:P3D
REFRESH-INTERVAL:P3D
CALSCALE:GREGORIAN
BEGIN:VEVENT
DTSTART:20170330T183000Z
DTEND:20170330T203000Z
X-MICROSOFT-CDO-ALLDAYEVENT:FALSE
SUMMARY:4th Annual State of Trade and Transportation
DESCRIPTION:Port of Long Beach Interim Chief Executive\, Duane Kenagy and Lou Ann Bynum\, Vice President\, Board of Harbor Commissioners to give Chamber members and guests the State of Trade and Transportation.\n\n\n\nThank you to our Title Sponsor Moffatt & Nichol for your continued support!
X-ALT-DESC;FMTTYPE=text/html:Port of Long Beach Interim Chief Executive\, Duane Kenagy and Lou Ann Bynum\, Vice President\, Board of Harbor Commissioners to give Chamber members and guests the State of Trade and Transportation.<br />\n<br />\nThank you to our Title Sponsor Moffatt &amp\; Nichol for your continued support!
LOCATION:The Westin Long Beach 333 E. Ocean Blvd. Long Beach\, CA 90802 Complimentary Parking
UID:e.1956.3072
SEQUENCE:3
DTSTAMP:20260419T204452Z
URL:https://business.lbchamber.com/events/details/4th-annual-state-of-trade-and-transportation-3072
END:VEVENT

END:VCALENDAR
