BEGIN:VCALENDAR
VERSION:2.0
PRODID:-//ChamberMaster//Event Calendar 2.0//EN
METHOD:PUBLISH
X-PUBLISHED-TTL:P3D
REFRESH-INTERVAL:P3D
CALSCALE:GREGORIAN
BEGIN:VEVENT
DTSTART:20150514T180000Z
DTEND:20150514T200000Z
X-MICROSOFT-CDO-ALLDAYEVENT:FALSE
SUMMARY:4th Annual Cottonwood Awards
DESCRIPTION:COTTONWOOD AWARD FOR LEADERSHIP \n\nRecognizes individuals who have shown significant leadership in enhancing\, promoting and supporting the cultural communities of the Southern California Region. \n\nHonoring Doug Otto and Freda Hinsche Otto\n\n \n\nSPECIAL RECOGNITION FOR CORPORATE COMMITMENT\n\nRecognizes the outstanding achievements of individuals or organizations that have had a significant impact on the cultural development of Rancho Los Alamitos and the City of Long Beach. \n\n\n\nRecipient: Port of Long Beach \n\n\n\nRecipient: Long Beach Navy Memorial Heritage Association
X-ALT-DESC;FMTTYPE=text/html:<div style="color: rgb(34\, 34\, 34)\; font-family: arial\, sans-serif\; font-size: 12.8000001907349px\; line-height: normal\;">COTTONWOOD AWARD FOR LEADERSHIP&nbsp\;</div>\n\n<div style="color: rgb(34\, 34\, 34)\; font-family: arial\, sans-serif\; font-size: 12.8000001907349px\; line-height: normal\;">Recognizes individuals who have shown significant leadership in enhancing\, promoting and supporting the cultural communities of the Southern California Region.&nbsp\;</div>\n\n<div style="color: rgb(34\, 34\, 34)\; font-family: arial\, sans-serif\; font-size: 12.8000001907349px\; line-height: normal\;">Honoring Doug Otto and Freda Hinsche Otto</div>\n\n<div style="color: rgb(34\, 34\, 34)\; font-family: arial\, sans-serif\; font-size: 12.8000001907349px\; line-height: normal\;">&nbsp\;</div>\n\n<div style="color: rgb(34\, 34\, 34)\; font-family: arial\, sans-serif\; font-size: 12.8000001907349px\; line-height: normal\;">SPECIAL RECOGNITION FOR&nbsp\;CORPORATE&nbsp\;COMMITMENT</div>\n\n<div style="color: rgb(34\, 34\, 34)\; font-family: arial\, sans-serif\; font-size: 12.8000001907349px\; line-height: normal\;">Recognizes the outstanding achievements of individuals or organizations that have had a significant impact on the cultural development of Rancho Los Alamitos and the City of Long Beach.&nbsp\;</div>\n\n<div style="color: rgb(34\, 34\, 34)\; font-family: arial\, sans-serif\; font-size: 12.8000001907349px\; line-height: normal\;">\n<div>\n<div>Recipient: Port of Long Beach<span style="white-space: pre-wrap\;"> </span></div>\n</div>\n</div>\n\n<div style="color: rgb(34\, 34\, 34)\; font-family: arial\, sans-serif\; font-size: 12.8000001907349px\; line-height: normal\;">Recipient: Long Beach Navy Memorial Heritage Association</div>\n
LOCATION:Rancho Los Alamitos Historic Ranch and Gardens 6400 E. Bixby Hill Road Long Beach\, CA 90813
UID:e.1956.2365
SEQUENCE:3
DTSTAMP:20260424T033541Z
URL:https://business.lbchamber.com/events/details/4th-annual-cottonwood-awards-05-14-2015-2365
END:VEVENT

END:VCALENDAR
