BEGIN:VCALENDAR
VERSION:2.0
PRODID:-//ChamberMaster//Event Calendar 2.0//EN
METHOD:PUBLISH
X-PUBLISHED-TTL:P3D
REFRESH-INTERVAL:P3D
CALSCALE:GREGORIAN
BEGIN:VEVENT
DTSTART:20150804T010000Z
DTEND:20150804T020000Z
X-MICROSOFT-CDO-ALLDAYEVENT:FALSE
SUMMARY:3rd District Councilwoman Suzie Price: READY Long Beach 2015 Open House
DESCRIPTION:The Long Beach Fire Department in conjunction with Long Beach CERT will be hosting the READY LONG BEACH OPEN HOUSE.\n\n\n\nThis event will provide an overview of the expo\, what CERT is\, and how you can help. Come learn about the importance of being READY!\n\n\n\nREADY Long Beach 2015* is an annual community preparedness expo that promotes a community approach to emergency preparedness and readiness. \n\n*Main event is scheduled for Saturday\, September 19\, 2015 at Heartwell Park\n\n\n\nWe encourage you to distribute this information to your:\n\nDistrict Community Leaders\n\nNeighborhood Association\n\nBusiness Association\n\nCivic Groups and FAITH BASE\n\nNon-Profit Organizations\n\nDistrict Volunteers
X-ALT-DESC;FMTTYPE=text/html:The Long Beach Fire Department in conjunction with Long Beach CERT will be hosting the READY LONG BEACH OPEN HOUSE.<br />\n<br />\nThis event will provide an overview of the expo\, what CERT is\, and how you can help. Come learn about the importance of being READY!<br />\n<br />\nREADY Long Beach 2015* is an annual community preparedness expo that promotes a community approach to emergency preparedness and readiness.&nbsp\;<br />\n*Main event is scheduled for Saturday\, September 19\, 2015 at Heartwell&nbsp\;Park<br />\n<br />\nWe encourage you to distribute this information to your:<br />\nDistrict Community Leaders<br />\nNeighborhood Association<br />\nBusiness Association<br />\nCivic Groups and FAITH BASE<br />\nNon-Profit Organizations<br />\nDistrict Volunteers
LOCATION:Long Beach Fire Department H.Q. 3205 North Lakewood Blvd.
UID:e.1956.2486
SEQUENCE:3
DTSTAMP:20260424T003634Z
URL:https://business.lbchamber.com/events/details/3rd-district-councilwoman-suzie-price-ready-long-beach-2015-open-house-08-03-2015-2486
END:VEVENT

END:VCALENDAR
