BEGIN:VCALENDAR
VERSION:2.0
PRODID:-//ChamberMaster//Event Calendar 2.0//EN
METHOD:PUBLISH
X-PUBLISHED-TTL:P3D
REFRESH-INTERVAL:P3D
CALSCALE:GREGORIAN
BEGIN:VEVENT
DTSTART:20160219T193000Z
DTEND:20160219T213000Z
X-MICROSOFT-CDO-ALLDAYEVENT:FALSE
SUMMARY:3rd Annual State of Trade & Transportation Luncheon
DESCRIPTION:Thank you to our Title Sponsor Moffatt & Nichol for their continued support of this event!
X-ALT-DESC;FMTTYPE=text/html:<p><span style="font-size: 14px\;"><span style="font-family: times new roman\;"><span style="font-size:16px\;"><span style="font-family:verdana\;"><strong>Thank you to our Title Sponsor <em>Moffatt &amp\; Nichol</em> for their continued support of this event!</strong></span></span></span></span><br />\n&nbsp\;</p>\n
LOCATION:Hyatt Regency Long Beach 200 S. Pine Avenue Long Beach\, CA 90802 Complimentary Parking
UID:e.1956.2565
SEQUENCE:3
DTSTAMP:20260420T155237Z
URL:https://business.lbchamber.com/events/details/3rd-annual-state-of-trade-transportation-luncheon-02-19-2016-2565
END:VEVENT

END:VCALENDAR
