BEGIN:VCALENDAR
VERSION:2.0
PRODID:-//ChamberMaster//Event Calendar 2.0//EN
METHOD:PUBLISH
X-PUBLISHED-TTL:P3D
REFRESH-INTERVAL:P3D
CALSCALE:GREGORIAN
BEGIN:VEVENT
DTSTART:20150123T193000Z
DTEND:20150123T213000Z
X-MICROSOFT-CDO-ALLDAYEVENT:FALSE
SUMMARY:2nd Annual State of Trade & Transportation Luncheon
DESCRIPTION:Please help us welcome Congresswoman Janice Hahn to Long Beach!
X-ALT-DESC;FMTTYPE=text/html:<span style="font-size: 14px\;"><span style="font-family: times new roman\;">Please help us welcome Congresswoman Janice Hahn to Long Beach!</span></span>
LOCATION:Hyatt Regency Long Beach 200 S. Pine Avenue Long Beach\, CA 90802 Complimentary Parking
UID:e.1956.2358
SEQUENCE:3
DTSTAMP:20260422T025942Z
URL:https://business.lbchamber.com/events/details/2nd-annual-state-of-trade-transportation-luncheon-01-23-2015-2358
END:VEVENT

END:VCALENDAR
