BEGIN:VCALENDAR
VERSION:2.0
PRODID:-//ChamberMaster//Event Calendar 2.0//EN
METHOD:PUBLISH
X-PUBLISHED-TTL:P3D
REFRESH-INTERVAL:P3D
CALSCALE:GREGORIAN
BEGIN:VEVENT
DTSTART:20180228T153000Z
DTEND:20180228T173000Z
X-MICROSOFT-CDO-ALLDAYEVENT:FALSE
SUMMARY:27th Annual Interfaith Intercultural Breakfast
DESCRIPTION:The 27th Interfaith Intercultural Breakfast is on Wednesday\, February 28th\, 2018 at 7:30 am at the Long Beach Convention & Entertainment Center. This is a landmark event in that we as an organization are for the first time utilizing this public forum with extensive reach to address the topic of gender identity\, with the hopes of connecting values of humanity\, dignity and love that is central to so many faiths to the stories of the LGBTQIA community. We feel it is imperative at this time to approach social justice work through an intersectional lens in order to be inclusive of every\, and all identities that are part of our lived experiences. The Interfaith Intercultural Breakfast is an opportunity for people of all racial\, ethnic\, religious\, gender identity and cultural backgrounds to come together to celebrate our rich diversity and share in the vision of a truly inclusive community.
X-ALT-DESC;FMTTYPE=text/html:The 27th Interfaith Intercultural Breakfast is on Wednesday\, February 28th\, 2018 at 7:30 am at the Long Beach Convention &amp\; Entertainment Center. This is a landmark event in that we as an organization are for the first time utilizing this public forum with extensive reach to address the topic of gender identity\, with the hopes of connecting values of humanity\, dignity and love that is central to so many faiths to the stories of the LGBTQIA community. We feel it is imperative at this time to approach social justice work through an intersectional lens in order to be inclusive of every\, and all identities that are part of our lived experiences. The Interfaith Intercultural Breakfast is an opportunity for people of all racial\, ethnic\, religious\, gender identity and cultural backgrounds to come together to celebrate our rich diversity and share in the vision of a truly inclusive community.
LOCATION:Long Beach Convention & Entertainment Center
UID:e.1956.4243
SEQUENCE:3
DTSTAMP:20260420T183318Z
URL:https://business.lbchamber.com/events/details/27th-annual-interfaith-intercultural-breakfast-4243
END:VEVENT

END:VCALENDAR
