BEGIN:VCALENDAR
VERSION:2.0
PRODID:-//ChamberMaster//Event Calendar 2.0//EN
METHOD:PUBLISH
X-PUBLISHED-TTL:P3D
REFRESH-INTERVAL:P3D
CALSCALE:GREGORIAN
BEGIN:VEVENT
DTSTART:20190222T013000Z
DTEND:20190222T040000Z
X-MICROSOFT-CDO-ALLDAYEVENT:FALSE
SUMMARY:2019 Passion for Police Auction and VIP Reception
DESCRIPTION:The Long Beach Police Foundation is the sole non profit that offers support for the Long Beach Police Department in areas of training\, technology\, equipment and community outreach. One way we do this is through our annual Passion for Police auction and VIP reception.\n\n\n\nOur auction is made possible by generous community collaborations. We work to build and inspire partnerships between the public and police for a safer Long Beach. Dollars raised at this event go directly back into outreach programs and to purchase requested needs submitted by officers.
X-ALT-DESC;FMTTYPE=text/html:The Long Beach Police Foundation is the sole non profit that offers support for the Long Beach Police Department in areas of training\, technology\, equipment and community outreach. One way we do this is through our annual Passion for Police auction and VIP reception.<br />\n<br />\nOur auction is made possible by generous community collaborations. We work to build and inspire partnerships between the public and police for a safer Long Beach. Dollars raised at this event go directly back into outreach programs and to purchase requested needs submitted by officers.&nbsp\;
LOCATION:400 W Ocean Blvd.\, Long Beach\, CA 90802
UID:e.1956.4423
SEQUENCE:3
DTSTAMP:20260420T014303Z
URL:https://business.lbchamber.com/events/details/2019-passion-for-police-auction-and-vip-reception-4423
END:VEVENT

END:VCALENDAR
