BEGIN:VCALENDAR
VERSION:2.0
PRODID:-//ChamberMaster//Event Calendar 2.0//EN
METHOD:PUBLISH
X-PUBLISHED-TTL:P3D
REFRESH-INTERVAL:P3D
CALSCALE:GREGORIAN
BEGIN:VEVENT
DTSTART:20170928T003000Z
DTEND:20170928T031500Z
X-MICROSOFT-CDO-ALLDAYEVENT:FALSE
SUMMARY:2017 Inaugural Hospitality Awards
DESCRIPTION:2017 Inaugural Hospitality Awards\n\nHonoring Excellence in the Hospitality Industry\n\n\n\nThe Hospitality Awards celebrate and recognize our industry's exceptional members\, restaurants and hotels. Awards are presented to dedicated individuals who define hospitality with their generosity of spirit and devotion to their organization and guests.\n\n\n\nThe awards are being introduced in 2017 as an opportunity to celebrate and recognize those who have made outstanding commitments to the industry. With the help of the Hospitality Awards Steering Committee\, we strive to recognize the industry's exceptional members\, restaurants and hotels\, and create an evening where the hospitality industry gathers to celebrate its successes.\n\n \n\nSponsorship opportunities are available\, please contact Elizabeth at Borsting Public Relations at 562.856.9292 or at elizabeth@borstingpr.com\n\n \n\nAbout Long Beach Hospitality Alliance (LBHA)\n\nLBHA is a member-based coalition working on behalf of hotel and restaurant operators and tourism related services throughout the city of Long Beach. The Long Beach Hospitality Alliance (LBHA) is a business council under the auspices of The Long Beach Area Chamber of Commerce. The LBHA represents the local hospitality and restaurant industry and serves as a liaison to the greater Long Beach area community which includes\, but is not limited to: all areas of city\, state and federal government\; local media\; special constituency groups and related tourism entities and organizations.\np.p1 {margin: 0.0px 0.0px 0.0px 0.0px\; font: 12.0px Verdana\; color: #000000\; -webkit-text-stroke: #767676}\nspan.s1 {font-kerning: none\; background-color: #ffffff}\nspan.s2 {font-kerning: none}\nspan.s3 {text-decoration: underline \; font-kerning: none\; color: #1155cc\; background-color: transparent}\n\np.p1 {margin: 0.0px 0.0px 0.0px 0.0px\; font: 12.0px Verdana\; color: #000000\; -webkit-text-stroke: #767676}\nspan.s1 {font-kerning: none\; background-color: #ffffff}\nspan.s2 {font-kerning: none}\nspan.s3 {text-decoration: underline \; font-kerning: none\; color: #1155cc\; background-color: transparent}
X-ALT-DESC;FMTTYPE=text/html:<p font-size:="" sans="" source="" style="box-sizing: border-box\; margin: 0px 0px 10px\; color: rgb(118\, 118\, 118)\; font-family: "><br />\n<span style="font-size:14px\;"><span style="font-family:verdana\;"><span style="color:#000000\;"><strong>2017 Inaugural Hospitality Awards<br />\nHonoring Excellence in the Hospitality Industry</strong></span></span></span><br />\n<br />\n<span style="font-size:12px\;"><span style="font-family:verdana\;"><span style="color:#000000\;"><span style="background-image:initial\;background-position:initial\;background-size:initial\;background-repeat:initial\;background-attachment:initial\;background-origin:initial\;background-clip:initial\;">The Hospitality Awards celebrate and recognize our industry&rsquo\;s exceptional members\, restaurants and hotels. Awards are presented to dedicated individuals who define hospitality with their generosity of spirit and devotion to their organization and guests.</span><br />\n<br />\n<span style="font-kerning:none\;"><span style="background-image:initial\;background-position:initial\;background-size:initial\;background-repeat:initial\;background-attachment:initial\;background-origin:initial\;background-clip:initial\;">The awards&nbsp\;are being introduced in 2017 as an opportunity to celebrate and recognize those who have made outstanding commitments to the industry. With the help of the Hospitality Awards Steering Committee\, we strive to recognize the industry&rsquo\;s exceptional members\, restaurants and hotels\, and create an evening where the hospitality industry gathers to celebrate its successes.</span></span><br />\n&nbsp\;<br />\n<span style="font-kerning:none\;"><span style="background-image:initial\;background-position:initial\;background-size:initial\;background-repeat:initial\;background-attachment:initial\;background-origin:initial\;background-clip:initial\;">Sponsorship opportunities are available\, please contact Elizabeth at&nbsp\;</span></span><span data-scayt-lang="en_US" data-scayt-word="Borsting" style="background-position-x:52%\;background-position-y:100%\;">Borsting</span></span><span style="background-image:initial\;background-position:initial\;background-size:initial\;background-repeat:initial\;background-attachment:initial\;background-origin:initial\;background-clip:initial\;"><span style="font-kerning:none\;"><span style="color:#000000\;">&nbsp\;Public Relations at&nbsp\;</span><a href="tel:(562)%20856-9292"><span style="color:#000000\;"><span style="font-kerning:none\;">562.856.929</span>2</span></a></span><span style="color:#000000\;">&nbsp\;or at&nbsp\;</span><a href="mailto:elizabeth@borstingpr.com"><span style="color:#000000\;"><span style="font-kerning:none\;"><span data-scayt-lang="en_US" data-scayt-word="elizabeth" style="background-position-x:52%\;background-position-y:100%\;">elizabet</span>h</span>@borstingpr.co</span></a></span><a href="mailto:elizabeth@borstingpr.com"><span style="color:#000000\;">m</span></a></span></span><br />\n<span style="color:#000000\;">&nbsp\;<br />\n<span style="font-size:14px\;"><span style="font-family:verdana\;"><strong>About Long Beach Hospitality Alliance (LBHA)</strong></span></span><br />\n<span style="font-size:11px\;"><span style="font-family:verdana\;">LBHA is a member-based coalition working on behalf of hotel and restaurant operators and tourism related services throughout the city of Long Beach. The Long Beach Hospitality Alliance (LBHA) is a business council under the auspices of The Long Beach Area Chamber of Commerce. The LBHA represents the local hospitality and restaurant industry and serves as a liaison to the greater Long Beach area community which includes\, but is not limited to: all areas of city\, state and federal government\; local media\; special constituency groups and related tourism entities and organizations.</span></span></span></p>\n<style type="text/css">p.p1 {margin: 0.0px 0.0px 0.0px 0.0px\; font: 12.0px Verdana\; color: #000000\; -webkit-text-stroke: #767676}\nspan.s1 {font-kerning: none\; background-color: #ffffff}\nspan.s2 {font-kerning: none}\nspan.s3 {text-decoration: underline \; font-kerning: none\; color: #1155cc\; background-color: transparent}\n</style>\n<style type="text/css">p.p1 {margin: 0.0px 0.0px 0.0px 0.0px\; font: 12.0px Verdana\; color: #000000\; -webkit-text-stroke: #767676}\nspan.s1 {font-kerning: none\; background-color: #ffffff}\nspan.s2 {font-kerning: none}\nspan.s3 {text-decoration: underline \; font-kerning: none\; color: #1155cc\; background-color: transparent}\n</style>\n
LOCATION:Hotel Maya 700 Queensway Dr. Long Beach\, CA 90802
UID:e.1956.4152
SEQUENCE:3
DTSTAMP:20260419T121214Z
URL:https://business.lbchamber.com/events/details/2017-inaugural-hospitality-awards-4152
END:VEVENT

END:VCALENDAR
