BEGIN:VCALENDAR
VERSION:2.0
PRODID:-//ChamberMaster//Event Calendar 2.0//EN
METHOD:PUBLISH
X-PUBLISHED-TTL:P3D
REFRESH-INTERVAL:P3D
CALSCALE:GREGORIAN
BEGIN:VEVENT
DTSTART:20150527T063000Z
DTEND:20150526T203000Z
X-MICROSOFT-CDO-ALLDAYEVENT:FALSE
SUMMARY:2015 World Trade Week Luncheon "Southern California: The Gateway for Trade"
DESCRIPTION:2015 World Trade Week Luncheon\n\n?Southern California: The Gateway for Trade?\n \n\nMichael Christensen was named to the newly created position in February 2015. He is responsible for working collaboratively with industry stakeholders to find new ways to increase communication and cooperation among the links of the supply chain to enhance cargo flow.
X-ALT-DESC;FMTTYPE=text/html:<h1 style="text-align:center\;"><span style="font-size:18px\;"><span style="font-weight:bold\;language:en-US\;"><span style="font-family:cambria\;">2015 World Trade Week Luncheon</span></span><br>\n<span style="font-weight:bold\;language:en-US\;"><span style="font-family:cambria\;">?Southern California: The Gateway for Trade?</span></span></span></h1>\n&nbsp\;<br>\n<span style="language:en-US\;"><span style="font-family:cambria\;"><span style="font-size:12.0pt\;">Michael Christensen was named to the newly created position in&nbsp\;February 2015. He is responsible for working collaboratively with </span></span></span><span style="language:en-US\;"><span style="font-family:cambria\;"><span style="font-size:12.0pt\;">industry stakeholders to find new ways to increase communication and cooperation among the links of the supply chain to enhance cargo flow.</span></span></span><br>\n&nbsp\;
LOCATION:The Westin Long Beach 333 E. Ocean Blvd. Long Beach\, CA 90802 Complimentary Parking
UID:e.1956.2377
SEQUENCE:3
DTSTAMP:20260421T210811Z
URL:https://business.lbchamber.com/events/details/2015-world-trade-week-luncheon-southern-california-the-gateway-for-trade-05-26-2015-2377
END:VEVENT

END:VCALENDAR
