BEGIN:VCALENDAR
VERSION:2.0
PRODID:-//ChamberMaster//Event Calendar 2.0//EN
METHOD:PUBLISH
X-PUBLISHED-TTL:P3D
REFRESH-INTERVAL:P3D
CALSCALE:GREGORIAN
BEGIN:VEVENT
DTSTART:20150618T153000Z
DTEND:20150619T000000Z
X-MICROSOFT-CDO-ALLDAYEVENT:FALSE
SUMMARY:2015 Connecting Women to Power Business Conference: A World of Possibilities
DESCRIPTION:Connect with more than 2\,000 professionals\, discover free business resources from the California State Board of Equalization\, gain powerful business-building tools\, get cutting edge information from industry leaders\, and transform your ideas into profits!
X-ALT-DESC;FMTTYPE=text/html:Connect with more than 2\,000 professionals\, discover free business resources from the California State Board of Equalization\, gain powerful business-building tools\, get cutting edge information from industry leaders\, and transform your ideas into profits!
LOCATION:California State University\, Dominguez Hills Loker Auditorium 1000 E. Victoria Street Carson\, CA 90747 FREE PARKING
UID:e.1956.2413
SEQUENCE:3
DTSTAMP:20260424T024504Z
URL:https://business.lbchamber.com/events/details/2015-connecting-women-to-power-business-conference-a-world-of-possibilities-06-18-2015-2413
END:VEVENT

END:VCALENDAR
