BEGIN:VCALENDAR
VERSION:2.0
PRODID:-//ChamberMaster//Event Calendar 2.0//EN
METHOD:PUBLISH
X-PUBLISHED-TTL:P3D
REFRESH-INTERVAL:P3D
CALSCALE:GREGORIAN
BEGIN:VEVENT
DTSTART:20141114T193000Z
DTEND:20141114T213000Z
X-MICROSOFT-CDO-ALLDAYEVENT:FALSE
SUMMARY:2014 State of the County Address
DESCRIPTION:The 8th Annual "State of the County Address"\n\nDelivered by\n\nDon Knabe\n\n Chairman of the Board\n\nSupervisor\, Fourth District
X-ALT-DESC;FMTTYPE=text/html:The 8th&nbsp\;Annual <span style="font-size:14px\;"><strong>&quot\;State of the County Address&quot\;</strong></span><br />\nDelivered by<br />\n<strong><span style="font-size:18px\;">Don Knabe</span></strong><br />\n&#8203\;Chairman of the Board<br />\nSupervisor\, Fourth District<br />\n&nbsp\;
LOCATION:Long Beach Convention Center Grand Ballroom 300 E. Ocean Blvd. at Pine Ave.\, 90802
UID:e.1956.1267
SEQUENCE:3
DTSTAMP:20260422T045503Z
URL:https://business.lbchamber.com/events/details/2014-state-of-the-county-address-11-14-2014-1267
END:VEVENT

END:VCALENDAR
