BEGIN:VCALENDAR
VERSION:2.0
PRODID:-//ChamberMaster//Event Calendar 2.0//EN
METHOD:PUBLISH
X-PUBLISHED-TTL:P3D
REFRESH-INTERVAL:P3D
CALSCALE:GREGORIAN
BEGIN:VEVENT
DTSTART:20140820T190000Z
DTEND:20140820T203000Z
X-MICROSOFT-CDO-ALLDAYEVENT:FALSE
SUMMARY:2014 California Visionary Leaders Luncheon Series
DESCRIPTION:2014 California Visionary Leaders Luncheon featuring:\n\n7th President of Long Beach State University\n\nJANE CLOSE CONOLEY
X-ALT-DESC;FMTTYPE=text/html:2014 California Visionary Leaders Luncheon featuring:<br />\n7th&nbsp\;President of Long Beach State University<br />\nJANE CLOSE CONOLEY
LOCATION:Hilton Long Beach/EMC 701 W Ocean Blvd Long Beach\, CA 90831
UID:e.1956.1249
SEQUENCE:3
DTSTAMP:20260422T093418Z
URL:https://business.lbchamber.com/events/details/2014-california-visionary-leaders-luncheon-series-08-20-2014-1249
END:VEVENT

END:VCALENDAR
