BEGIN:VCALENDAR
VERSION:2.0
PRODID:-//ChamberMaster//Event Calendar 2.0//EN
METHOD:PUBLISH
X-PUBLISHED-TTL:P3D
REFRESH-INTERVAL:P3D
CALSCALE:GREGORIAN
BEGIN:VEVENT
DTSTART:20140424T190000Z
DTEND:20140424T203000Z
X-MICROSOFT-CDO-ALLDAYEVENT:FALSE
SUMMARY:2014 California Visionary Leaders Luncheon Series
DESCRIPTION:Featured Speaker: \n\n7th Chancellor of the California State University System\n\nTimothy P. White
X-ALT-DESC;FMTTYPE=text/html:Featured Speaker:&nbsp\;<br />\n7th Chancellor of the California State University System<br />\n<strong>Timothy P. White</strong>
LOCATION:Renaissance Long Beach Hotel 111 E Ocean Blvd Long Beach CA 90802
UID:e.1956.1233
SEQUENCE:3
DTSTAMP:20260422T152124Z
URL:https://business.lbchamber.com/events/details/2014-california-visionary-leaders-luncheon-series-04-24-2014-1233
END:VEVENT

END:VCALENDAR
