BEGIN:VCALENDAR
VERSION:2.0
PRODID:-//ChamberMaster//Event Calendar 2.0//EN
METHOD:PUBLISH
X-PUBLISHED-TTL:P3D
REFRESH-INTERVAL:P3D
CALSCALE:GREGORIAN
BEGIN:VEVENT
DTSTART:20150423T190000Z
DTEND:20150424T190000Z
X-MICROSOFT-CDO-ALLDAYEVENT:FALSE
SUMMARY:2 Day Sales Training BootCamp
DESCRIPTION:Huntington Beach Chamber of Commerce proudly hosts The Sandler 2 Day Sales Training BootCamp Date: April 23-24th\, 2015 in Huntington Beach Cost: ..... WAS $2\,495.00 Chamber Member Cost: ... $499.00 Non-Chamber member are also invited to attend. What to expect... 2 days of rigorous sales training that is a certificate based program. Our training helps firms and their teams: - increase their 'quote-to-close ratios'.. especially in competitive situations\; - reduce their 'sales cycles'?\, and - improve their prospecting efforts to grow market share. Who we are... Sandler Training-- We are the largest Sales Training Company in the World. ? World Wide Offices: 250+\, with 130 offices in N. America ? The big corporations\, IBM's\, CISCO\, ORACLE\, INTEL's? all know us. ? btw? a small group of us just trained LinkedIn? Take advantage of the premier Sales Training Program and join us? - please contact us with questions!
X-ALT-DESC;FMTTYPE=text/html:Huntington Beach Chamber of Commerce proudly hosts The Sandler 2 Day Sales Training BootCamp Date: April 23-24th\, 2015 in Huntington Beach Cost: ..... WAS $2\,495.00 Chamber Member Cost: ... $499.00 Non-Chamber member are also invited to attend. What to expect... 2 days of rigorous sales training that is a certificate based program. Our training helps firms and their teams: - increase their &#39\;quote-to-close ratios&#39\;.. especially in competitive situations\; - reduce their &#39\;sales cycles&#39\;?\, and - improve their prospecting efforts to grow market share. Who we are... Sandler Training-- We are the largest Sales Training Company in the World. ? World Wide Offices: 250+\, with 130 offices in N. America ? The big corporations\, IBM&#39\;s\, CISCO\, ORACLE\, INTEL&#39\;s? all know us. ? btw? a small group of us just trained LinkedIn? Take advantage of the premier Sales Training Program and join us? - please contact us with questions!
LOCATION:Huntington Beach Chamber of Commerce
UID:e.1956.2437
SEQUENCE:3
DTSTAMP:20260424T043912Z
URL:https://business.lbchamber.com/events/details/2-day-sales-training-bootcamp-04-23-2015-2437
END:VEVENT

END:VCALENDAR
