BEGIN:VCALENDAR
VERSION:2.0
PRODID:-//ChamberMaster//Event Calendar 2.0//EN
METHOD:PUBLISH
X-PUBLISHED-TTL:P3D
REFRESH-INTERVAL:P3D
CALSCALE:GREGORIAN
BEGIN:VEVENT
DTSTART:20180725T140000Z
DTEND:20180726T040000Z
X-MICROSOFT-CDO-ALLDAYEVENT:FALSE
SUMMARY:2.99 Burger at Ruby's Diner
DESCRIPTION:On Wednesday\, July 25\, 2018\, Ruby's Diner celebrates its namesake's birthday and 36 years of America's favorite burgers\, fries and shakes. On the milestone date\, participating Ruby's Diner locations will celebrate Ruby's Birthday Celebration and offer Ruby's Birthday Burger with French fries for just $2.99 while supplies last. Proceeds from each sale will directly benefit The Ruby Dooby Foundation\, with $1 from each Ruby's Birthday Burger sold to go towards the organization. The Ruby Dooby Foundation carries on the legacy of giving and compassion embodied by Ruby Cavanaugh\, who adored children.
X-ALT-DESC;FMTTYPE=text/html:On Wednesday\, July 25\, 2018\, Ruby&rsquo\;s Diner celebrates its namesake&rsquo\;s birthday and 36 years of America&rsquo\;s favorite burgers\, fries and shakes. On the milestone date\, participating Ruby&rsquo\;s Diner locations will celebrate Ruby&rsquo\;s Birthday Celebration and offer Ruby&rsquo\;s Birthday Burger with French fries for just $2.99 while supplies last. Proceeds from each sale will directly benefit The Ruby Dooby Foundation\, with $1 from each Ruby&rsquo\;s Birthday Burger sold to go towards the organization. The Ruby Dooby Foundation carries on the legacy of giving and compassion embodied by Ruby Cavanaugh\, who adored children.
LOCATION:6405 Pacific Coast Hwy\, Long Beach\, CA 90803
UID:e.1956.4319
SEQUENCE:3
DTSTAMP:20260420T114226Z
URL:https://business.lbchamber.com/events/details/2-99-burger-at-ruby-s-diner-4319
END:VEVENT

END:VCALENDAR
