BEGIN:VCALENDAR
VERSION:2.0
PRODID:-//ChamberMaster//Event Calendar 2.0//EN
METHOD:PUBLISH
X-PUBLISHED-TTL:P3D
REFRESH-INTERVAL:P3D
CALSCALE:GREGORIAN
BEGIN:VEVENT
DTSTART;VALUE=DATE:20180928
DTEND;VALUE=DATE:20181001
TRANSP:TRANSPARENT
X-MICROSOFT-CDO-ALLDAYEVENT:TRUE
SUMMARY:1st Annual Catalina Mini Golf Open
DESCRIPTION:Here's another great reason to visit beautiful Catalina Island: the chance to win $10\,000 at the 1st Annual Catalina Island Mini Golf Open\, coming to Avalon Sept. 28-30\, 2018. Open to all ages and skill levels\, this three-day miniature golf tournament is being held at Golf Gardens\, an award-winning par-51 course with twists and turns that will test even the most avid mini golfer. Registration includes a Friday evening celebration at Island Spa Catalina and a Saturday evening BBQ at historic Catalina Country Club. Each event includes food and one beverage ticket\, redeemable for a glass of beer or wine. Be among the first 100 to sign up and receive a discount on your registration. Come play a round (or four) on Catalina Island. For more information and to sign up\, www.visitcatalinaisland.com/MiniGolfOpen
X-ALT-DESC;FMTTYPE=text/html:Here&rsquo\;s another great reason to visit beautiful Catalina Island: the chance to win $10\,000 at the 1st Annual Catalina Island Mini Golf Open\, coming to Avalon Sept. 28-30\, 2018. Open to all ages and skill levels\, this three-day miniature golf tournament is being held at Golf Gardens\, an award-winning par-51 course with twists and turns that will test even the most avid mini golfer. Registration includes a Friday evening celebration at Island Spa Catalina and a Saturday evening BBQ at historic Catalina Country Club. Each event includes food and one beverage ticket\, redeemable for a glass of beer or wine. Be among the first 100 to sign up and receive a discount on your registration. Come play a round (or four) on Catalina Island. For more information and to sign up\, www.visitcatalinaisland.com/MiniGolfOpen
LOCATION:10 Island Plaza Avalon\, CA 90704
UID:e.1956.4329
SEQUENCE:3
DTSTAMP:20260420T085506Z
URL:https://business.lbchamber.com/events/details/1st-annual-catalina-mini-golf-open-4329
END:VEVENT

END:VCALENDAR
